BEGIN:VCALENDAR
VERSION:2.0
PRODID:-//ChamberMaster//Event Calendar 2.0//EN
METHOD:PUBLISH
X-PUBLISHED-TTL:P3D
REFRESH-INTERVAL:P3D
CALSCALE:GREGORIAN
BEGIN:VEVENT
DTSTART:20171005T171500Z
DTEND:20171005T184500Z
X-MICROSOFT-CDO-ALLDAYEVENT:FALSE
SUMMARY:College Day at HCHS
DESCRIPTION:On Thursday\, October 5\, 2017\, the Halifax County High School will host over 50 representatives from various universities in Virginia and neighboring North Carolina at their annual College Day. This event is a college fair with representatives in the Halifax County High School lobby and gym from 1:15 p.m. until 2:45 p.m. Representatives will be available to answer questions from students and parents about their institution. This is a prime opportunity  especially for High school seniors and their parents to get their pressing questions answered by admissions representatives before submitting their college applications. If you have further questions\, you may contact:
X-ALT-DESC;FMTTYPE=text/html:<span style="font-family: &quot\;Helvetica Neue&quot\;\, Helvetica\, Arial\, sans-serif\; font-size: 14px\; background-color: rgb(255\, 255\, 252)\;">On Thursday\, October 5\, 2017\, the Halifax County High School will host over 50 representatives from various universities in Virginia and neighboring North Carolina at their annual College Day. This event is a college fair with representatives in the Halifax County High School lobby and gym from 1:15 p.m. until 2:45 p.m. Representatives will be available to answer questions from students and parents about their institution. This is a prime opportunity &nbsp\;especially for High school seniors and their parents to get their pressing questions answered by admissions representatives before submitting their college applications. If you have further questions\, you may contact:</span>
LOCATION:1 High School Circle South Boston\, VA
UID:e.845.7106
SEQUENCE:3
DTSTAMP:20260422T135612Z
URL:https://business.halifaxchamber.net/events/details/college-day-at-hchs-7106
END:VEVENT

END:VCALENDAR
