BEGIN:VCALENDAR
VERSION:2.0
PRODID:-//ChamberMaster//Event Calendar 2.0//EN
METHOD:PUBLISH
X-PUBLISHED-TTL:P3D
REFRESH-INTERVAL:P3D
CALSCALE:GREGORIAN
BEGIN:VEVENT
DTSTART:20180303T180000Z
DTEND:20180303T220000Z
X-MICROSOFT-CDO-ALLDAYEVENT:FALSE
SUMMARY:College Student Auditions - Summer Theatre 2018
DESCRIPTION:Auditions for Summer Theatre 2018 are being held on Saturday\, March 3! Roles are available for both college student applicants and locals. Rehearsals begin June 4.\n\n \n\nCollege Student Auditions- Summer Theatre 2018\n\nSaturday March 3\, 1:00 - 5:00 p.m. at The Prizery\n\n	Please email prizery@mac.com for an audition slot for Saturday March 3. between 1:00 and 5:00 (If you are auditioning at SETC\, please do not attend this audition.)\n	Those auditioning must have a 60 second monologue memorized and 16 bars of a song memorized. Some people auditioning will be asked to stay for a group dance audition.\n	All roles will potentially be cast from college age applicants.\n	Please supply an up to date resume and photo when you audition.\n\n"GYSPY" roles include:\n\nMomma Rose - Mezzo/Alto with good low notes and belt\n\nHerbie - Baritone\n\nDainty June - Strong Alto \, Strong Dancer including tap\, Harmony skills\n\nLouise/Gypsy Rose Lee - Mezzo with strong belt (light sound on "Little Lamb")\n\nDressy Tessie Tura - Mezzo Belt\n\nMazeppa - Alto Belt\n\nElectra - Mezzo Belt\n\nCratchitt - comedic role\n\nSingers and Dancers to back up Gypsy Rose Lee\n\nAgnes - comedic\n\nTulsa - Bari Tenor\n\nKringelin\n\nMr. Goldstone\n\nCigar\n\nPastey\n\n"OKLAHOMA" roles include:\n\nLaurey - soprano\n\nCurley - baritone\n\nAunt Eller - Mezzo\n\nWill Parker - Tenor\n\nJud Fry - Baritone\n\nAdo Annie - Soprano\n\nAli Hakim\n\nGertie Cummings Alto or Soprano\n\nAndrew Carnes - Tenor\n\nDance and Singing Ensemble\n\nAll roles are open\n\nRehearsals begin June 4\n\n7 week contract\, plus housing
X-ALT-DESC;FMTTYPE=text/html:<span style="font-family:helvetica\;"><span style="font-size:11.5pt\;">Auditions for Summer Theatre 2018 are being held on Saturday\, March 3! Roles are available for both college student applicants and locals. Rehearsals begin June 4.</span></span><br />\n&nbsp\;<br />\n<strong><span style="font-family:helvetica\;"><span style="font-size:11.5pt\;">College Student Auditions- Summer Theatre 2018<br />\nSaturday March 3\, 1:00 - 5:00 p.m. at The Prizery</span></span></strong>\n<ul>\n	<li><span style="font-family:helvetica\;"><span style="font-size:11.5pt\;">Please email&nbsp\;<a href="mailto:prizery@mac.com"><span style="text-decoration-line:none\;"><span style="color:#841319\;">prizery@mac.com</span></span></a>&nbsp\;for an audition slot for Saturday March 3. between 1:00 and 5:00 (If you are auditioning at SETC\, please do not attend this audition.)</span></span></li>\n	<li><span style="font-family:helvetica\;"><span style="font-size:11.5pt\;">Those auditioning must have a 60 second monologue memorized and 16 bars of a song memorized. Some people auditioning will be asked to stay for a group dance audition.</span></span></li>\n	<li><span style="font-family:helvetica\;"><span style="font-size:11.5pt\;">All roles will potentially be cast from college age applicants.</span></span></li>\n	<li><span style="font-family:helvetica\;"><span style="font-size:11.5pt\;">Please supply an up to date resume and photo when you audition.</span></span></li>\n</ul>\n<strong><span style="font-family:helvetica\;"><span style="font-size:11.5pt\;">&quot\;GYSPY&quot\; roles include:</span></span></strong><br />\n<span style="font-family:helvetica\;"><span style="font-size:11.5pt\;">Momma Rose - Mezzo/Alto with good low notes and belt<br />\nHerbie - Baritone<br />\nDainty June - Strong Alto \, Strong Dancer including tap\, Harmony skills<br />\nLouise/Gypsy Rose Lee - Mezzo with strong belt (light sound on &quot\;Little Lamb&quot\;)<br />\nDressy Tessie Tura - Mezzo Belt<br />\nMazeppa - Alto Belt<br />\nElectra - Mezzo Belt<br />\nCratchitt - comedic role<br />\nSingers and Dancers to back up Gypsy Rose Lee<br />\nAgnes - comedic<br />\nTulsa - Bari Tenor<br />\nKringelin<br />\nMr. Goldstone<br />\nCigar<br />\nPastey</span></span><br />\n<strong><span style="font-family:helvetica\;"><span style="font-size:11.5pt\;">&quot\;OKLAHOMA&quot\; roles include:</span></span></strong><br />\n<span style="font-family:helvetica\;"><span style="font-size:11.5pt\;">Laurey - soprano<br />\nCurley - baritone<br />\nAunt Eller - Mezzo<br />\nWill Parker - Tenor<br />\nJud Fry - Baritone<br />\nAdo Annie - Soprano<br />\nAli Hakim<br />\nGertie Cummings Alto or Soprano<br />\nAndrew Carnes - Tenor<br />\nDance and Singing Ensemble<br />\nAll roles are open<br />\nRehearsals begin June 4</span></span><br />\n<strong><span style="font-family:helvetica\;"><span style="font-size:11.5pt\;">7 week contract\, plus housing</span></span></strong><br />\n&nbsp\;<br />\n&nbsp\;<br />\n&nbsp\;
LOCATION:700 Bruce Street South Boston\, VA
UID:e.845.7232
SEQUENCE:3
DTSTAMP:20260422T070722Z
URL:https://business.halifaxchamber.net/events/details/college-student-auditions-summer-theatre-2018-7232
END:VEVENT

END:VCALENDAR
