BEGIN:VCALENDAR
VERSION:2.0
PRODID:-//ChamberMaster//Event Calendar 2.0//EN
METHOD:PUBLISH
X-PUBLISHED-TTL:P3D
REFRESH-INTERVAL:P3D
CALSCALE:GREGORIAN
BEGIN:VEVENT
DTSTART:20190705T223000Z
DTEND:20190706T010000Z
X-MICROSOFT-CDO-ALLDAYEVENT:FALSE
SUMMARY:Comedy Night at the Barn
DESCRIPTION:Join Hunting Creek Vineyards for an evening of laughter with special guest Linda Shepperd.\n\nAppetizers will be served at 6:30pm\n\nLaughter and fun will start at 7:15 pm with dinner to follow.\n\nTickets are limited. Reserve your seat at https://www.hcvwines.com/calendar/comedynighttickets
X-ALT-DESC;FMTTYPE=text/html:Join Hunting Creek Vineyards for an evening of laughter with special guest Linda Shepperd.<br />\nAppetizers will be served at 6:30pm<br />\nLaughter and fun will start at 7:15 pm with dinner to follow.<br />\nTickets are limited. Reserve your seat at&nbsp\;<a data-lynx-mode="hover" data-lynx-uri="https://l.facebook.com/l.php?u=https%3A%2F%2Fwww.hcvwines.com%2Fcalendar%2Fcomedynighttickets%3Ffbclid%3DIwAR2A0KQLtMFdPMfsEOXhq8NWCT_1gUbdzerVg_ATn393bpgqKOhB-VCiMrI&amp\;h=AT3CwFu9Yd9-IyLftiCVK3wmeo3zTcHrLgUO9aS714VVXo-AoLk3hGNMzuMdUtGtSCwwKGZpY69GU2jVNStJajn5IJZ-tMcuehslA8WPY5RvRvE3KehfN17CGDhmQ9_d77ouLqQ" href="https://www.hcvwines.com/calendar/comedynighttickets?fbclid=IwAR2A0KQLtMFdPMfsEOXhq8NWCT_1gUbdzerVg_ATn393bpgqKOhB-VCiMrI" rel="nofollow noopener" style="color: rgb(56\, 88\, 152)\; cursor: pointer\; text-decoration-line: none\; font-family: system-ui\, -apple-system\, system-ui\, &quot\;.SFNSText-Regular&quot\;\, sans-serif\; font-size: 14px\; white-space: pre-wrap\;" target="_blank">https://www.hcvwines.com/calendar/comedynighttickets</a>
LOCATION:Hunting Creek Vineyards 2000 Addie Williams Trail Clover\, VA 24534
UID:e.845.13172
SEQUENCE:3
DTSTAMP:20260421T030909Z
URL:https://business.halifaxchamber.net/events/details/comedy-night-at-the-barn-13172
END:VEVENT

END:VCALENDAR
