BEGIN:VCALENDAR
VERSION:2.0
PRODID:-//ChamberMaster//Event Calendar 2.0//EN
METHOD:PUBLISH
X-PUBLISHED-TTL:P3D
REFRESH-INTERVAL:P3D
CALSCALE:GREGORIAN
BEGIN:VEVENT
DTSTART:20200214T233000Z
DTEND:20200215T030000Z
X-MICROSOFT-CDO-ALLDAYEVENT:FALSE
SUMMARY:Comedy Night at the Barn
DESCRIPTION:Join Hunting Creek Vineyards for an evening of laughter with Linda Shepperd. \n\nEnjoy wine\, sangria and appetizers. Comedy starts at 7:30 pm with dinner to follow.\n\nWater and soft drinks included in ticket price. Wine can be purchased by the glass or bottle.\n\nTickets limited\, visit https://www.hcvwines.com/calendar/comedynighttickets
X-ALT-DESC;FMTTYPE=text/html:Join Hunting Creek Vineyards for an evening of laughter with Linda Shepperd.&nbsp\;<br />\nEnjoy wine\, sangria and appetizers. Comedy starts at 7:30 pm with dinner to follow.<br />\nWater and soft drinks included in ticket price. Wine can be purchased by the glass or bottle.<br />\nTickets limited\, visit&nbsp\;<a href="https://www.hcvwines.com/calendar/comedynighttickets">https://www.hcvwines.com/calendar/comedynighttickets</a>
LOCATION:Hunting Creek Vineyards 2000 Addie Williams Trail Clover\, VA 24534
UID:e.845.15597
SEQUENCE:3
DTSTAMP:20260420T151555Z
URL:https://business.halifaxchamber.net/events/details/comedy-night-at-the-barn-15597
END:VEVENT

END:VCALENDAR
