BEGIN:VCALENDAR
VERSION:2.0
PRODID:-//ChamberMaster//Event Calendar 2.0//EN
METHOD:PUBLISH
X-PUBLISHED-TTL:P3D
REFRESH-INTERVAL:P3D
CALSCALE:GREGORIAN
BEGIN:VEVENT
DTSTART:20170311T120000Z
DTEND:20170311T170000Z
X-MICROSOFT-CDO-ALLDAYEVENT:FALSE
SUMMARY:Commonwealth Home Health Multi Family Indoor Yard Sale
DESCRIPTION:Commonwealth home health and Personal Home Care invite you to them for their multi family indoor yard sale March 11th from 7am-12p. Located at 425 Main Street South Boston. All proceeds will be donated to the Halifax Cancer Association.
X-ALT-DESC;FMTTYPE=text/html:<span style="color: rgb(29\, 33\, 41)\; font-family: 'San Francisco'\, -apple-system\, BlinkMacSystemFont\, '.SFNSText-Regular'\, sans-serif\; font-size: 14px\; letter-spacing: -0.23999999463558197px\;">Commonwealth home health and Personal Home Care invite you to them for their multi family indoor yard sale March 11th from 7am-12p. Located at 425 Main Street South Boston. All proceeds will be donated to the Halifax Cancer Association.</span>
LOCATION:425 Main Street South Boston\, VA 24592
UID:e.845.5801
SEQUENCE:3
DTSTAMP:20260424T145850Z
URL:https://business.halifaxchamber.net/events/details/commonwealth-home-health-multi-family-indoor-yard-sale-5801
END:VEVENT

END:VCALENDAR
