BEGIN:VCALENDAR
VERSION:2.0
PRODID:-//ChamberMaster//Event Calendar 2.0//EN
METHOD:PUBLISH
X-PUBLISHED-TTL:P3D
REFRESH-INTERVAL:P3D
CALSCALE:GREGORIAN
BEGIN:VEVENT
DTSTART:20201104T200000Z
DTEND:20201104T230000Z
X-MICROSOFT-CDO-ALLDAYEVENT:FALSE
SUMMARY:Commonwealth Senior Living Model Open House
DESCRIPTION:Commonwealth Senior Living is hosting a model open house for one bedroom apartments on Wednesday\, November 4\, 2020 from 3PM-6PM. RSVP to Christy Puckett at (434) 572-7654.
X-ALT-DESC;FMTTYPE=text/html:Commonwealth Senior Living is hosting a model open house for one bedroom apartments on Wednesday\, November 4\, 2020 from 3PM-6PM. RSVP to Christy Puckett at (434) 572-7654.
LOCATION:435 Hamilton Blvd South Boston\, VA 24592
UID:e.845.17805
SEQUENCE:3
DTSTAMP:20260419T234605Z
URL:https://business.halifaxchamber.net/events/details/commonwealth-senior-living-model-open-house-17805
END:VEVENT

END:VCALENDAR
