BEGIN:VCALENDAR
VERSION:2.0
PRODID:-//ChamberMaster//Event Calendar 2.0//EN
METHOD:PUBLISH
X-PUBLISHED-TTL:P3D
REFRESH-INTERVAL:P3D
CALSCALE:GREGORIAN
BEGIN:VEVENT
DTSTART:20190306T000000Z
DTEND:20190306T020000Z
X-MICROSOFT-CDO-ALLDAYEVENT:FALSE
SUMMARY:Commonwealth Senior Living presents a Special Movie Presentation EDITH & EDDIE
DESCRIPTION:This Academy Award-nomintaed film tells the story of how Edith Hill 95\, and Eddie Harrison 96\, found love with one another later in life. Watch and learn how guardianship issues and disagreements between their adult children threatened to tear them apart. The film will be followed by a discusson led by area experts on aging.
X-ALT-DESC;FMTTYPE=text/html:This Academy Award-nomintaed film tells the story of how Edith Hill 95\, and Eddie Harrison 96\, found love with one another later in life. Watch and learn how guardianship issues and disagreements between their adult children threatened to tear them apart. The film will be followed by a discusson led by area experts on aging.
LOCATION:Beth Carr Baptist Church 25 Church Street Halifax\, VA
UID:e.845.12056
SEQUENCE:3
DTSTAMP:20260421T094046Z
URL:https://business.halifaxchamber.net/events/details/commonwealth-senior-living-presents-a-special-movie-presentation-edith-eddie-12056
END:VEVENT

END:VCALENDAR
