BEGIN:VCALENDAR
VERSION:2.0
PRODID:-//ChamberMaster//Event Calendar 2.0//EN
METHOD:PUBLISH
X-PUBLISHED-TTL:P3D
REFRESH-INTERVAL:P3D
CALSCALE:GREGORIAN
BEGIN:VEVENT
DTSTART:20180630T150000Z
DTEND:20180630T210000Z
X-MICROSOFT-CDO-ALLDAYEVENT:FALSE
SUMMARY:Community Day
DESCRIPTION:Community Day- Music. Food. Fun.\n\nPresented by Music in the Air Performing Arts Center. Inc.
X-ALT-DESC;FMTTYPE=text/html:Community Day- Music. Food. Fun.<br />\nPresented by Music in the Air Performing Arts Center. Inc.
LOCATION:Constitution Square 100 Main Street South Boston\, VA 24592
UID:e.845.8436
SEQUENCE:3
DTSTAMP:20260422T000308Z
URL:https://business.halifaxchamber.net/events/details/community-day-8436
END:VEVENT

END:VCALENDAR
