BEGIN:VCALENDAR
VERSION:2.0
PRODID:-//ChamberMaster//Event Calendar 2.0//EN
METHOD:PUBLISH
X-PUBLISHED-TTL:P3D
REFRESH-INTERVAL:P3D
CALSCALE:GREGORIAN
BEGIN:VEVENT
DTSTART:20190427T130000Z
DTEND:20190427T160000Z
X-MICROSOFT-CDO-ALLDAYEVENT:FALSE
SUMMARY:Community Health Fair
DESCRIPTION:Join us for a Community Health Fair in Downtown South Boston! \n\nHealth professionals and other vendors will be on site with information promoting healthy living in our area. \n\n\n\nTo become a vendor email mmears@firstcare.biz
X-ALT-DESC;FMTTYPE=text/html:Join us for a Community Health Fair in Downtown South Boston!&nbsp\;<br />\nHealth professionals and other vendors will be on site with information promoting healthy living in our area.&nbsp\;<br />\n<br />\nTo become a vendor email mmears@firstcare.biz&nbsp\;<br />\n&nbsp\;
LOCATION:Constitution Square Downtown South Boston
UID:e.845.12031
SEQUENCE:3
DTSTAMP:20260421T093757Z
URL:https://business.halifaxchamber.net/events/details/community-health-fair-12031
END:VEVENT

END:VCALENDAR
