BEGIN:VCALENDAR
VERSION:2.0
PRODID:-//ChamberMaster//Event Calendar 2.0//EN
METHOD:PUBLISH
X-PUBLISHED-TTL:P3D
REFRESH-INTERVAL:P3D
CALSCALE:GREGORIAN
BEGIN:VEVENT
DTSTART:20190513T223000Z
DTEND:20190513T223000Z
X-MICROSOFT-CDO-ALLDAYEVENT:FALSE
SUMMARY:Community Meeting
DESCRIPTION:You are invited to attend a community meeting regarding Inman Solar's oroposal for a solar farm for Dominion Energy in Halifax County. \n\nInman Solar is a private company with over 146 omstallations in 12 states completed\, with a primary focus on developing solar farms for utilities in the southeast.
X-ALT-DESC;FMTTYPE=text/html:You are invited to attend a community meeting regarding Inman Solar&#39\;s oroposal for a solar farm for Dominion Energy in Halifax County.&nbsp\;<br />\nInman Solar is a private company with over 146 omstallations in 12 states completed\, with a primary focus on developing solar farms for utilities in the southeast.
LOCATION:St. John's Episcopal Church 197 Mountain Road Halifax\, Va 24558
UID:e.845.12486
SEQUENCE:3
DTSTAMP:20260421T062326Z
URL:https://business.halifaxchamber.net/events/details/community-meeting-12486
END:VEVENT

END:VCALENDAR
