BEGIN:VCALENDAR
VERSION:2.0
PRODID:-//ChamberMaster//Event Calendar 2.0//EN
METHOD:PUBLISH
X-PUBLISHED-TTL:P3D
REFRESH-INTERVAL:P3D
CALSCALE:GREGORIAN
BEGIN:VEVENT
DTSTART:20190511T130000Z
DTEND:20190511T160000Z
X-MICROSOFT-CDO-ALLDAYEVENT:FALSE
SUMMARY:Community Shred Day
DESCRIPTION:A day to dispose of private documents in a safe and secure way. Just drive up to Carter Bank & Trust and drop off your documents to shred for free.\n\n\n\nSuggested Donation\n\nCanned food items to benefit the\n\nHope Food Pantry and Passage Place\n\n\n\nBring up to eight standard file boxes of papers to shred while space is available\, rain or shine.
X-ALT-DESC;FMTTYPE=text/html:A day to dispose of private documents in a safe and secure way. Just drive up to <strong>Carter Bank &amp\; Trust</strong> and drop off your documents to shred for free.<br />\n<br />\n<strong>Suggested Donation</strong><br />\nCanned food items to benefit the<br />\nHope Food Pantry and Passage Place<br />\n<br />\nBring up to eight standard file boxes of papers to shred&nbsp\;<em>while space is available\, rain or shine</em>.
LOCATION:Carter Bank & Trust 222 Main Street South Boston\, VA 24592
UID:e.845.12461
SEQUENCE:3
DTSTAMP:20260421T075755Z
URL:https://business.halifaxchamber.net/events/details/community-shred-day-12461
END:VEVENT

END:VCALENDAR
