BEGIN:VCALENDAR
VERSION:2.0
PRODID:-//ChamberMaster//Event Calendar 2.0//EN
METHOD:PUBLISH
X-PUBLISHED-TTL:P3D
REFRESH-INTERVAL:P3D
CALSCALE:GREGORIAN
BEGIN:VEVENT
DTSTART:20190522T213000Z
DTEND:20190522T223000Z
X-MICROSOFT-CDO-ALLDAYEVENT:FALSE
SUMMARY:Community Strategic Plan Rollout and Celebration
DESCRIPTION:Join us for the rollout of the Halifax County Community Strategic Plan. Members of the steering committee will introduce key initiatives and tactical recommendations. The community is invited to attend to learn more the plan and how to get involved in the implementation process.
X-ALT-DESC;FMTTYPE=text/html:<span style="color: rgb(29\, 33\, 41)\; font-family: system-ui\, -apple-system\, system-ui\, &quot\;.SFNSText-Regular&quot\;\, sans-serif\; font-size: 14px\; white-space: pre-wrap\;">Join us for the rollout of the Halifax County Community Strategic Plan. Members of the steering committee will introduce key initiatives and tactical recommendations. The community is invited to attend to learn more the plan and how to get involved in the implementation process.</span>
LOCATION:The Prizery Banquet Hall 700 Bruce Street South Boston\, VA 24592
UID:e.845.12481
SEQUENCE:3
DTSTAMP:20260421T062418Z
URL:https://business.halifaxchamber.net/events/details/community-strategic-plan-rollout-and-celebration-12481
END:VEVENT

END:VCALENDAR
