BEGIN:VCALENDAR
VERSION:2.0
PRODID:-//ChamberMaster//Event Calendar 2.0//EN
METHOD:PUBLISH
X-PUBLISHED-TTL:P3D
REFRESH-INTERVAL:P3D
CALSCALE:GREGORIAN
BEGIN:VEVENT
DTSTART:20190314T120000Z
DTEND:20190314T140000Z
X-MICROSOFT-CDO-ALLDAYEVENT:FALSE
SUMMARY:Community Strategic Plan Steering Committee 3.14.19
DESCRIPTION:
X-ALT-DESC;FMTTYPE=text/html:
LOCATION:SVHEF Boardroom
UID:e.845.12266
SEQUENCE:3
DTSTAMP:20260421T093834Z
URL:https://business.halifaxchamber.net/events/details/community-strategic-plan-steering-committee-3-14-19-12266
END:VEVENT

END:VCALENDAR
