BEGIN:VCALENDAR
VERSION:2.0
PRODID:-//ChamberMaster//Event Calendar 2.0//EN
METHOD:PUBLISH
X-PUBLISHED-TTL:P3D
REFRESH-INTERVAL:P3D
CALSCALE:GREGORIAN
BEGIN:VEVENT
DTSTART:20210629T140000Z
DTEND:20210629T180000Z
X-MICROSOFT-CDO-ALLDAYEVENT:FALSE
SUMMARY:Community-Wide Job Fair
DESCRIPTION:A Community-Wide Job Fair will be held Tuesday\, June 29 at the Halifax County Fair- grounds\, 10:00 am   2:00 pm. This event is sponsored by the Halifax County Chamber of Commerce\, Virginia Career Works\, Southern Virginia Higher Education Center\, and the County of Halifax.\n\n \n\n\n\n\n\nEmployers interested in participating in the job fair should call the Chamber at 434-572-3085 or register online at www.halifaxchamber.net/JobFair. Participating employers will be listed on the Chamber's website along with open positions and job fair requirements.
X-ALT-DESC;FMTTYPE=text/html:<div class="page" title="Page 1">\n<div class="section" style="background-color: rgb(100.000000%\, 100.000000%\, 100.000000%)">\n<div class="layoutArea">\n<div class="column">\n<p><span style="font-size: 10.000000pt\; font-family: 'NewCenturySchlbkLTStd'">A Community-Wide Job Fair will be held Tuesday\, June 29 at the Halifax County Fair- grounds\, 10:00 am &ndash\; 2:00 pm. This event is sponsored by the Halifax County Chamber of Commerce\, Virginia Career Works\, Southern Virginia Higher Education Center\, and the County of Halifax.</span><br />\n&nbsp\;</p>\n\n<div class="page" title="Page 1">\n<div class="section" style="background-color: rgb(100.000000%\, 100.000000%\, 100.000000%)">\n<div class="layoutArea">\n<div class="column">\n<p><span style="font-size: 10.000000pt\; font-family: 'NewCenturySchlbkLTStd'">Employers interested in participating in the job fair should call the Chamber at <a href="tel:434-572-3085">434-572-3085</a> or register online at www.halifaxchamber.net/JobFair. Participating employers will be listed on the Chamber&rsquo\;s website along with open positions and job fair requirements. </span></p>\n</div>\n</div>\n</div>\n</div>\n</div>\n</div>\n</div>\n</div>\n
LOCATION:Halifax County Fairgrounds
UID:e.845.18034
SEQUENCE:3
DTSTAMP:20260419T123843Z
URL:https://business.halifaxchamber.net/events/details/community-wide-job-fair-18034
END:VEVENT

END:VCALENDAR
