BEGIN:VCALENDAR
VERSION:2.0
PRODID:-//ChamberMaster//Event Calendar 2.0//EN
METHOD:PUBLISH
X-PUBLISHED-TTL:P3D
REFRESH-INTERVAL:P3D
CALSCALE:GREGORIAN
BEGIN:VEVENT
DTSTART:20151112T150000Z
DTEND:20151112T190000Z
X-MICROSOFT-CDO-ALLDAYEVENT:FALSE
SUMMARY:Community-Wide Job Fair (Employer Signup)
DESCRIPTION:A Community-Wide Job Fair will be held Thursday\, November 12 at the Prizery\, 10:00 am   2:00 pm. Partners of the event include the Halifax County Chamber of Commerce\, Dan River Region Collaborative\, South Boston Virginia Workforce Center\, Virginia Employment Commission\, Central Virginia Rapid Response\, Industrial Development Authority of Halifax County\, Southern Virginia Higher Education Center\, and Southside Virginia Community College.\n\n\n\nJob seekers who have attained their National Career Readiness Certificate (NCRC) will be allowed early admission from 10:00 am   11:00 am. Those interested in attending should pre-register online at www.surveymonkey.com/r/HalifaxJobFair2015 or visit the South Boston Virginia Workforce Center at 2506 Houghton Avenue\, South Boston.\n\n\n\nAn Employment Prep Workshop will be held on Thursday\, November 5\, 10:00 am   noon or 2:00   4:00 pm at the Southern Virginia Higher Education Center's Innovation Center. Topics include: Resume Building\; Interviewing and the Follow-up Process\; and Importance of NCRC. What can this certification mean for you? Those interested in attending the workshop should call the Chamber at 434-572-3085 to register.\n\n\n\nA test date for the NCRC has been scheduled for Friday\, November 6\, 9:00 am - 1:30 pm\, at the South Boston Virginia Workforce Center. Call 434-572-8064 to register or for more information.\n\n\n\nEmployers interested in participating in the job fair should call the Chamber at 434-572-3085 or register online.
X-ALT-DESC;FMTTYPE=text/html:A Community-Wide Job Fair will be held Thursday\, November 12 at the Prizery\, 10:00 am &ndash\; 2:00 pm. Partners of the event include the Halifax County Chamber of Commerce\, Dan River Region Collaborative\, South Boston Virginia Workforce Center\, Virginia Employment Commission\, Central Virginia Rapid Response\, Industrial Development Authority of Halifax County\, Southern Virginia Higher Education Center\, and Southside Virginia Community College.<br />\n<br />\nJob seekers who have attained their National Career Readiness Certificate (NCRC) will be allowed early admission from 10:00 am &ndash\; 11:00 am. Those interested in attending should pre-register online at www.surveymonkey.com/r/HalifaxJobFair2015 or visit the South Boston Virginia Workforce Center at 2506 Houghton Avenue\, South Boston.<br />\n<br />\nAn Employment Prep Workshop will be held on Thursday\, November 5\, 10:00 am &ndash\; noon or 2:00 &ndash\; 4:00 pm at the Southern Virginia Higher Education Center&rsquo\;s Innovation Center. Topics include: Resume Building\; Interviewing and the Follow-up Process\; and Importance of NCRC. What can this certification mean for you? Those interested in attending the workshop should call the Chamber at 434-572-3085 to register.<br />\n<br />\nA test date for the NCRC has been scheduled for Friday\, November 6\, 9:00 am - 1:30 pm\, at the South Boston Virginia Workforce Center. Call 434-572-8064 to register or for more information.<br />\n<br />\nEmployers interested in participating in the job fair should call the Chamber at 434-572-3085 or register online.
LOCATION:Prizery 700 Bruce Street\, South Boston VA
UID:e.845.4542
SEQUENCE:3
DTSTAMP:20260425T163127Z
URL:https://business.halifaxchamber.net/events/details/community-wide-job-fair-employer-signup-11-12-2015-4542
END:VEVENT

END:VCALENDAR
