BEGIN:VCALENDAR
VERSION:2.0
PRODID:-//ChamberMaster//Event Calendar 2.0//EN
METHOD:PUBLISH
X-PUBLISHED-TTL:P3D
REFRESH-INTERVAL:P3D
CALSCALE:GREGORIAN
BEGIN:VEVENT
DTSTART:20200401T193000Z
DTEND:20200401T203000Z
X-MICROSOFT-CDO-ALLDAYEVENT:FALSE
SUMMARY:Conference Call with Senator Mark Warner on COVID-19 Stimulus Bill
DESCRIPTION:The current COVID-19 pandemic has affected our social and business landscape in unprecedented ways\, and Congress is working on a multi-trillion dollar aid package to help workers and small businesses weather the economic effects of the virus. Senator Mark Warner has been part of a bipartisan group of Senators working with the Administration to negotiate this deal.\n\n\n\nRSVP to Charity Howell by emailing charity_howell@warner.senate.gov. Due to the Senator's time and the capacity of the call\, please send any questions you have in advance of the call to Charity Howell
X-ALT-DESC;FMTTYPE=text/html:<span style="font-size:12px\;"><span style="color: black\; font-family: Calibri\, sans-serif\;">The current COVID-19 pandemic has affected our social and business landscape in unprecedented ways\, and Congress is working on a multi-trillion dollar aid package&nbsp\;</span><span style="color: black\; font-family: Calibri\, sans-serif\;">to help workers and small businesses weather the economic effects of the virus. Senator Mark Warner has been part of a bipartisan group of Senators working with the Administration to negotiate this deal.<br />\n<br />\nRSVP to Charity Howell by emailing&nbsp\;</span>charity_howell@warner.senate.gov. Due to the Senator&#39\;s time and the capacity of the call\, please send any questions you have in advance of the call to Charity Howell</span>
LOCATION:Dial-in number: (202) 228-0808 Access Code: 1535627#
UID:e.845.17545
SEQUENCE:3
DTSTAMP:20260420T114618Z
URL:https://business.halifaxchamber.net/events/details/conference-call-with-senator-mark-warner-on-covid-19-stimulus-bill-17545
END:VEVENT

END:VCALENDAR
