BEGIN:VCALENDAR
VERSION:2.0
PRODID:-//ChamberMaster//Event Calendar 2.0//EN
METHOD:PUBLISH
X-PUBLISHED-TTL:P3D
REFRESH-INTERVAL:P3D
CALSCALE:GREGORIAN
BEGIN:VEVENT
DTSTART:20201007T230000Z
DTEND:20201007T230000Z
X-MICROSOFT-CDO-ALLDAYEVENT:FALSE
SUMMARY:Cooking for Hope with Chef Steve
DESCRIPTION:Virtual cooking class to benefit cancer patients in Halifax County\, VA.\n\nLearn to cook Molasses Grill's signature Sweet Potato Encrusted Salmon. We will provide you with all of the ingredients and teach you the tips and tricks to succeed!
X-ALT-DESC;FMTTYPE=text/html:Virtual cooking class to benefit cancer patients in Halifax County\, VA.<br />\nLearn to cook Molasses Grill&#39\;s signature Sweet Potato Encrusted Salmon. We will provide you with all of the ingredients and teach you the tips and tricks to succeed!
LOCATION:Register at: https://hccahope.networkforgood.com/events/23487-cooking-for-hope
UID:e.845.17766
SEQUENCE:3
DTSTAMP:20260420T031817Z
URL:https://business.halifaxchamber.net/events/details/cooking-for-hope-with-chef-steve-17766
END:VEVENT

END:VCALENDAR
