BEGIN:VCALENDAR
VERSION:2.0
PRODID:-//ChamberMaster//Event Calendar 2.0//EN
METHOD:PUBLISH
X-PUBLISHED-TTL:P3D
REFRESH-INTERVAL:P3D
CALSCALE:GREGORIAN
BEGIN:VEVENT
DTSTART:20180619T213000Z
DTEND:20180619T230000Z
X-MICROSOFT-CDO-ALLDAYEVENT:FALSE
SUMMARY:CoolSculpting Open House
DESCRIPTION:Learn more about how to freeze away fat with the CoolSculpting treatment. Nonsurgical. Little or no down time. Join us at our CoolEvent. Space is limited to the first 30 registrants so call now to secure your spot!
X-ALT-DESC;FMTTYPE=text/html:Learn more about how to freeze away fat with the CoolSculpting treatment. Nonsurgical. Little or no down time. Join us at our CoolEvent. Space is limited to the first 30 registrants so call now to secure your spot!
LOCATION:2212 Wilborn Avenue South Boston Va. 24592
UID:e.845.8445
SEQUENCE:3
DTSTAMP:20260422T000354Z
URL:https://business.halifaxchamber.net/events/details/coolsculpting-open-house-8445
END:VEVENT

END:VCALENDAR
