BEGIN:VCALENDAR
VERSION:2.0
PRODID:-//ChamberMaster//Event Calendar 2.0//EN
METHOD:PUBLISH
X-PUBLISHED-TTL:P3D
REFRESH-INTERVAL:P3D
CALSCALE:GREGORIAN
BEGIN:VEVENT
DTSTART:20190610T230000Z
DTEND:20190611T020000Z
X-MICROSOFT-CDO-ALLDAYEVENT:FALSE
SUMMARY:Cornhole Night
DESCRIPTION:bring a friend and sign up by 6:45. \n\nThe games will start at 7:00 on the back patio.
X-ALT-DESC;FMTTYPE=text/html:<p>bring a friend and sign up by&nbsp\;6:45.&nbsp\;<br />\nThe games will start at 7:00 on the back patio.&nbsp\;<br />\n<br />\n&nbsp\;</p>\n\n<p>&nbsp\;</p>\n
LOCATION:Greens Folly Shopping Center 4154 Halifax Road Halifax VA 24592
UID:e.845.12724
SEQUENCE:3
DTSTAMP:20260421T044004Z
URL:https://business.halifaxchamber.net/events/details/cornhole-night-06-10-2019-12724
END:VEVENT

END:VCALENDAR
