BEGIN:VCALENDAR
VERSION:2.0
PRODID:-//ChamberMaster//Event Calendar 2.0//EN
METHOD:PUBLISH
X-PUBLISHED-TTL:P3D
REFRESH-INTERVAL:P3D
CALSCALE:GREGORIAN
BEGIN:VEVENT
DTSTART:20191005T233000Z
DTEND:20191006T020000Z
X-MICROSOFT-CDO-ALLDAYEVENT:FALSE
SUMMARY:Cornhole Tournament
DESCRIPTION:Cornhole Tournament at the World of Sports Saturday\, October 5\n\nRegister by 7:30. Bags fly at 8:00
X-ALT-DESC;FMTTYPE=text/html:Cornhole Tournament at the World of Sports Saturday\, October 5<br />\nRegister by 7:30. Bags fly at 8:00<br />\n<br />\n<br />\n<br />\n&nbsp\;
LOCATION:World of Sports 2030 Bill Tuck Highway South Boston\, VA 24592
UID:e.845.13433
SEQUENCE:3
DTSTAMP:20260420T233839Z
URL:https://business.halifaxchamber.net/events/details/cornhole-tournament-10-05-2019-13433
END:VEVENT

END:VCALENDAR
