BEGIN:VCALENDAR
VERSION:2.0
PRODID:-//ChamberMaster//Event Calendar 2.0//EN
METHOD:PUBLISH
X-PUBLISHED-TTL:P3D
REFRESH-INTERVAL:P3D
CALSCALE:GREGORIAN
BEGIN:VEVENT
DTSTART:20200527T140000Z
DTEND:20200527T150000Z
X-MICROSOFT-CDO-ALLDAYEVENT:FALSE
SUMMARY:Courting the Customer:The Relationship Between the Business and the Customer During Crisis
DESCRIPTION:Lakes Media has partnered with Michael Pallini\, author of "Courting the Customer\," to bring you a short 30-minute webinar reviewing "The Relationship Between The Business and The Customer During Crisis."
X-ALT-DESC;FMTTYPE=text/html:<span style="caret-color: rgb(0\, 0\, 0)\; color: rgb(0\, 0\, 0)\; font-family: Arial\, sans-serif\; font-size: 16px\; text-size-adjust: auto\;">Lakes Media has partnered with Michael Pallini\, author of &ldquo\;Courting the Customer\,&rdquo\; to bring you a short 30-minute webinar reviewing &ldquo\;The Relationship Between The Business and The Customer During Crisis.&rdquo\;&nbsp\;&nbsp\;</span>
LOCATION:Register in advance at: https://zoom.us/meeting/register/tJMudO-urjgtGtLkDSJKR5mSIfYV3w5GxTai
UID:e.845.17607
SEQUENCE:3
DTSTAMP:20260420T100439Z
URL:https://business.halifaxchamber.net/events/details/courting-the-customer-the-relationship-between-the-business-and-the-customer-during-crisis-17607
END:VEVENT

END:VCALENDAR
