BEGIN:VCALENDAR
VERSION:2.0
PRODID:-//ChamberMaster//Event Calendar 2.0//EN
METHOD:PUBLISH
X-PUBLISHED-TTL:P3D
REFRESH-INTERVAL:P3D
CALSCALE:GREGORIAN
BEGIN:VEVENT
DTSTART:20200620T200000Z
DTEND:20200621T020000Z
X-MICROSOFT-CDO-ALLDAYEVENT:FALSE
SUMMARY:Courtyard BBQ
DESCRIPTION:BBQ Specials!\n\nLive Music by Mark Davidson\n\nSpringfield Distillery themed bar\,\n\nCorn Hole\, and Lawn Games
X-ALT-DESC;FMTTYPE=text/html:<div class="kvgmc6g5 cxmmr5t8 oygrvhab hcukyx3x c1et5uql" style="overflow-wrap: break-word\; margin: 0px\; font-family: inherit\;"><span class="oi732d6d ik7dh3pa d2edcug0 qv66sw1b c1et5uql a8c37x1j muag1w35 enqfppq2 jq4qci2q a3bd9o3v knj5qynh oo9gr5id" dir="auto" style="line-height: 1.3333\; display: block\; overflow-wrap: break-word\; max-width: 100%\; margin-bottom: -4px\; -webkit-font-smoothing: antialiased\; font-size: 0.9375rem\; margin-top: -4px\; color: var(--primary-text)\; word-break: break-word\; font-family: system-ui\, -apple-system\, system-ui\, &quot\;.SFNSText-Regular&quot\;\, sans-serif\;">BBQ Specials!<br />\nLive Music by Mark Davidson<br />\nSpringfield Distillery themed bar\,<br />\nCorn Hole\, and Lawn Games</span></div>\n
LOCATION:Berry Hill Resort 3105 River Road South Boston\, VA 24592
UID:e.845.17672
SEQUENCE:3
DTSTAMP:20260420T082041Z
URL:https://business.halifaxchamber.net/events/details/courtyard-bbq-17672
END:VEVENT

END:VCALENDAR
