BEGIN:VCALENDAR
VERSION:2.0
PRODID:-//ChamberMaster//Event Calendar 2.0//EN
METHOD:PUBLISH
X-PUBLISHED-TTL:P3D
REFRESH-INTERVAL:P3D
CALSCALE:GREGORIAN
BEGIN:VEVENT
DTSTART:20200325T170000Z
DTEND:20200325T180000Z
X-MICROSOFT-CDO-ALLDAYEVENT:FALSE
SUMMARY:COVID-19 Halifax County Employer Briefing Webinar
DESCRIPTION:Join us on Wednesday\, March 25 at 1:00 p.m. to discuss the economic effects of COVID-19. You'll hear from the following:\n\n\n\nJennifer Burnett\, Clement & Wheatley - COVID-19 Legislation and Employer Impact\n\n\n\nMichael Dolianitis\, Virginia Employment Commission - Workforce and Employment Resources\n\n\n\nBrian Brown\, Industrial Development Authority - Economic Perspective\n\n\n\nInteractive Q&A
X-ALT-DESC;FMTTYPE=text/html:<span style="color: rgb(35\, 35\, 51)\; font-family: Lato\, Helvetica\, Arial\; font-size: 14px\;">Join us on Wednesday\, March 25 at 1:00 p.m. to discuss the economic effects of COVID-19. You&#39\;ll hear from the following:</span><br style="box-sizing: border-box\; color: rgb(35\, 35\, 51)\; font-family: Lato\, Helvetica\, Arial\; font-size: 14px\;" />\n<br style="box-sizing: border-box\; color: rgb(35\, 35\, 51)\; font-family: Lato\, Helvetica\, Arial\; font-size: 14px\;" />\n<span style="color: rgb(35\, 35\, 51)\; font-family: Lato\, Helvetica\, Arial\; font-size: 14px\;">Jennifer Burnett\, Clement &amp\; Wheatley - COVID-19 Legislation and Employer Impact</span><br style="box-sizing: border-box\; color: rgb(35\, 35\, 51)\; font-family: Lato\, Helvetica\, Arial\; font-size: 14px\;" />\n<br style="box-sizing: border-box\; color: rgb(35\, 35\, 51)\; font-family: Lato\, Helvetica\, Arial\; font-size: 14px\;" />\n<span style="color: rgb(35\, 35\, 51)\; font-family: Lato\, Helvetica\, Arial\; font-size: 14px\;">Michael Dolianitis\, Virginia Employment Commission - Workforce and Employment Resources</span><br style="box-sizing: border-box\; color: rgb(35\, 35\, 51)\; font-family: Lato\, Helvetica\, Arial\; font-size: 14px\;" />\n<br style="box-sizing: border-box\; color: rgb(35\, 35\, 51)\; font-family: Lato\, Helvetica\, Arial\; font-size: 14px\;" />\n<span style="color: rgb(35\, 35\, 51)\; font-family: Lato\, Helvetica\, Arial\; font-size: 14px\;">Brian Brown\, Industrial Development Authority - Economic Perspective</span><br style="box-sizing: border-box\; color: rgb(35\, 35\, 51)\; font-family: Lato\, Helvetica\, Arial\; font-size: 14px\;" />\n<br style="box-sizing: border-box\; color: rgb(35\, 35\, 51)\; font-family: Lato\, Helvetica\, Arial\; font-size: 14px\;" />\n<span style="color: rgb(35\, 35\, 51)\; font-family: Lato\, Helvetica\, Arial\; font-size: 14px\;">Interactive Q&amp\;A</span>
LOCATION:ZOOM Online Meeting https://zoom.us/webinar/register/WN_yVbTszyfSVS6Iw0cNhexNQ
UID:e.845.17531
SEQUENCE:3
DTSTAMP:20260420T132243Z
URL:https://business.halifaxchamber.net/events/details/covid-19-halifax-county-employer-briefing-webinar-17531
END:VEVENT

END:VCALENDAR
