BEGIN:VCALENDAR
VERSION:2.0
PRODID:-//ChamberMaster//Event Calendar 2.0//EN
METHOD:PUBLISH
X-PUBLISHED-TTL:P3D
REFRESH-INTERVAL:P3D
CALSCALE:GREGORIAN
BEGIN:VEVENT
DTSTART:20200506T150000Z
DTEND:20200506T160000Z
X-MICROSOFT-CDO-ALLDAYEVENT:FALSE
SUMMARY:COVID-19 Relief Funding
DESCRIPTION:The SoVa COIVD-19 Task Force invites you to the SoVa Wednesday Webinar focusing on the COVID-19 relief funding. Our nation's small businesses are facing an unprecedented economic disruption due to the Coronavirus outbreak. In addition to traditional SBA funding programs\, the CARES Act established several new temporary programs to address the COVID-19 outbreak. Our speakers will provide an overview of relief funding options and will answer questions that you may have.\n\n \n\nTopics to include: \n\n\n	SBA Loans - Round 1 & 2 of Economic Injury Disaster Loan (EIDL) and Paycheck Protection Program (PPP)\n	Recovery funding\n\n\n \n\nSpeakers:\n\n\n	Martin Short\, Lead Economic Development Specialist\, SBA\n	Jody Keenan\, State Director\, Virginia SBDC\n	Lin Hite\, Regional Director\, Longwood SBDC Western Region\n	Michael Scales\, Business Analyst\, Longwood SBDC Western Region\n	Jeff Haley\, Chairman\, Virginia Bankers Association and President\, American National Bank & Trust\n	(I) Dawn DeHart\, Community Development Lending Director\, Carter Bank & Trust
X-ALT-DESC;FMTTYPE=text/html:<p style="margin: 0px 0px 10px\; font-family: roboto\, Verdana\, Helvetica\, Arial\, sans-serif\; font-size: 15px\;">The SoVa COIVD-19 Task Force invites you to the SoVa Wednesday Webinar focusing on the COVID-19 relief funding. Our nation&#39\;s small businesses are facing an unprecedented economic disruption due to the Coronavirus outbreak. In addition to traditional SBA funding programs\, the CARES Act established several new temporary programs to address the COVID-19 outbreak. Our speakers will provide an overview of relief funding options and will answer questions that you may have.</p>\n\n<p style="margin: 0px 0px 10px\; font-family: roboto\, Verdana\, Helvetica\, Arial\, sans-serif\; font-size: 15px\;">&nbsp\;</p>\n\n<p style="margin: 0px 0px 10px\; font-family: roboto\, Verdana\, Helvetica\, Arial\, sans-serif\; font-size: 15px\;"><strong style="caret-color: auto\;">Topics to include:&nbsp\;</strong></p>\n\n<ul style="padding-right: 0px\; padding-left: 0px\; margin: 0px 0px 10px 25px\; font-family: roboto\, Verdana\, Helvetica\, Arial\, sans-serif\; font-size: 15px\;">\n	<li style="line-height: 20px\; padding: 0px\; margin: 0px\;">SBA Loans - Round 1 &amp\; 2 of Economic Injury Disaster Loan (EIDL) and Paycheck Protection Program (PPP)</li>\n	<li style="line-height: 20px\; padding: 0px\; margin: 0px\;">Recovery funding</li>\n</ul>\n\n<p style="margin: 0px 0px 10px\; font-family: roboto\, Verdana\, Helvetica\, Arial\, sans-serif\; font-size: 15px\;">&nbsp\;</p>\n\n<p style="margin: 0px 0px 10px\; font-family: roboto\, Verdana\, Helvetica\, Arial\, sans-serif\; font-size: 15px\;"><strong>Speakers:</strong></p>\n\n<ul style="padding-right: 0px\; padding-left: 0px\; margin: 0px 0px 10px 25px\; font-family: roboto\, Verdana\, Helvetica\, Arial\, sans-serif\; font-size: 15px\;">\n	<li style="line-height: 20px\; padding: 0px\; margin: 0px\;">Martin Short\, Lead Economic Development Specialist\, SBA</li>\n	<li style="line-height: 20px\; padding: 0px\; margin: 0px\;">Jody Keenan\, State Director\, Virginia SBDC</li>\n	<li style="line-height: 20px\; padding: 0px\; margin: 0px\;">Lin Hite\, Regional Director\, Longwood SBDC Western Region</li>\n	<li style="line-height: 20px\; padding: 0px\; margin: 0px\;">Michael Scales\, Business Analyst\, Longwood SBDC Western Region</li>\n	<li style="line-height: 20px\; padding: 0px\; margin: 0px\;">Jeff Haley\, Chairman\, Virginia Bankers Association and President\, American National Bank &amp\; Trust</li>\n	<li style="line-height: 20px\; padding: 0px\; margin: 0px\;"><span style="caret-color: auto\;">(I) Dawn DeHart\, Community Development Lending Director\, Carter Bank &amp\; Trust</span></li>\n</ul>\n
LOCATION:Register at: https://www.svra.org/calendar/38-stat-regional/55-sova-wednesday-webinars-covid-19-funding
UID:e.845.17586
SEQUENCE:3
DTSTAMP:20260420T100114Z
URL:https://business.halifaxchamber.net/events/details/covid-19-relief-funding-17586
END:VEVENT

END:VCALENDAR
