BEGIN:VCALENDAR
VERSION:2.0
PRODID:-//ChamberMaster//Event Calendar 2.0//EN
METHOD:PUBLISH
X-PUBLISHED-TTL:P3D
REFRESH-INTERVAL:P3D
CALSCALE:GREGORIAN
BEGIN:VEVENT
DTSTART:20210616T170000Z
DTEND:20210616T210000Z
X-MICROSOFT-CDO-ALLDAYEVENT:FALSE
SUMMARY:COVID-19 Vaccine Clinic - 12 and up
DESCRIPTION:Sentara Medical Group is pleased to offer the COVID-19 vaccine to anyone who is 12 years or older. If you or your child is interested in receiving the Pfizer COVID-19 vaccine\, please schedule an appointment today by calling 1-833-887-6943.
X-ALT-DESC;FMTTYPE=text/html:Sentara Medical Group is pleased to offer the COVID-19 vaccine to anyone who is 12 years or older. If you or your child is interested in receiving the Pfizer COVID-19 vaccine\, please schedule an appointment today by calling 1-833-887-6943.
LOCATION:Sentara Halifax Pediatrics 2100 Wilborn Ave. South Boston\, VA 24592
UID:e.845.18035
SEQUENCE:3
DTSTAMP:20260419T124104Z
URL:https://business.halifaxchamber.net/events/details/covid-19-vaccine-clinic-12-and-up-18035
END:VEVENT

END:VCALENDAR
