BEGIN:VCALENDAR
VERSION:2.0
PRODID:-//ChamberMaster//Event Calendar 2.0//EN
METHOD:PUBLISH
X-PUBLISHED-TTL:P3D
REFRESH-INTERVAL:P3D
CALSCALE:GREGORIAN
BEGIN:VEVENT
DTSTART:20180201T230000Z
DTEND:20180202T020000Z
X-MICROSOFT-CDO-ALLDAYEVENT:FALSE
SUMMARY:Craft Night at Staunton River Brewing Co.
DESCRIPTION:We'll be creating fun Virginia string art to adorn your home for the Valentine's season\, and possibly\, year round! \n\nDetails:\n\nDoors open at 6pm\n\nWine\, Beer\, and Sangria will be available for purchase. \n\nWe'll provide the dinner\, instruction\, template\, the hammers\, nails\, wood\, and string- you just bring yourself! \n\nThe wood panels are 12 inches tall\, 24 inches wide\, and will be pre-stained or left natural depending on your personal choice. String will be white for the state\, and choice of red or gold heart for your "home" location.\n\nCost will be $40 and along with artwork/supplies includes:\n\nSoup (Cream of Tomato or Loaded Potato)\n\nSalad (Ranch or Vinaigrette)\n\nand Grilled Cheese or Turkey Club Sandwich\n\nPlease note\, drinks are additional.\n\nRegister by 1/19/18.
X-ALT-DESC;FMTTYPE=text/html:<span style="color: rgb(75\, 79\, 86)\; font-family: &quot\;SF Optimized&quot\;\, system-ui\, -apple-system\, system-ui\, &quot\;.SFNSText-Regular&quot\;\, sans-serif\; font-size: 14px\; letter-spacing: -0.12px\;">We&#39\;ll be creating fun Virginia string art to adorn your home for the Valentine&#39\;s season\, and possibly\, year round!&nbsp\;</span><br style="color: rgb(75\, 79\, 86)\; font-family: &quot\;SF Optimized&quot\;\, system-ui\, -apple-system\, system-ui\, &quot\;.SFNSText-Regular&quot\;\, sans-serif\; font-size: 14px\; letter-spacing: -0.12px\;" />\n<span style="color: rgb(75\, 79\, 86)\; font-family: &quot\;SF Optimized&quot\;\, system-ui\, -apple-system\, system-ui\, &quot\;.SFNSText-Regular&quot\;\, sans-serif\; font-size: 14px\; letter-spacing: -0.12px\;">Details:</span><br style="color: rgb(75\, 79\, 86)\; font-family: &quot\;SF Optimized&quot\;\, system-ui\, -apple-system\, system-ui\, &quot\;.SFNSText-Regular&quot\;\, sans-serif\; font-size: 14px\; letter-spacing: -0.12px\;" />\n<span style="color: rgb(75\, 79\, 86)\; font-family: &quot\;SF Optimized&quot\;\, system-ui\, -apple-system\, system-ui\, &quot\;.SFNSText-Regular&quot\;\, sans-serif\; font-size: 14px\; letter-spacing: -0.12px\;">Doors open at 6pm</span><br style="color: rgb(75\, 79\, 86)\; font-family: &quot\;SF Optimized&quot\;\, system-ui\, -apple-system\, system-ui\, &quot\;.SFNSText-Regular&quot\;\, sans-serif\; font-size: 14px\; letter-spacing: -0.12px\;" />\n<span style="color: rgb(75\, 79\, 86)\; font-family: &quot\;SF Optimized&quot\;\, system-ui\, -apple-system\, system-ui\, &quot\;.SFNSText-Regular&quot\;\, sans-serif\; font-size: 14px\; letter-spacing: -0.12px\;">Wine\, Beer\, and Sangria will be available for purchase.&nbsp\;</span><br style="color: rgb(75\, 79\, 86)\; font-family: &quot\;SF Optimized&quot\;\, system-ui\, -apple-system\, system-ui\, &quot\;.SFNSText-Regular&quot\;\, sans-serif\; font-size: 14px\; letter-spacing: -0.12px\;" />\n<span style="color: rgb(75\, 79\, 86)\; font-family: &quot\;SF Optimized&quot\;\, system-ui\, -apple-system\, system-ui\, &quot\;.SFNSText-Regular&quot\;\, sans-serif\; font-size: 14px\; letter-spacing: -0.12px\;">We&#39\;ll provide the dinner\, instruction\, template\, the hammers\, nails\, wood\, and string- you just bring yourself!&nbsp\;</span><br style="color: rgb(75\, 79\, 86)\; font-family: &quot\;SF Optimized&quot\;\, system-ui\, -apple-system\, system-ui\, &quot\;.SFNSText-Regular&quot\;\, sans-serif\; font-size: 14px\; letter-spacing: -0.12px\;" />\n<span style="color: rgb(75\, 79\, 86)\; font-family: &quot\;SF Optimized&quot\;\, system-ui\, -apple-system\, system-ui\, &quot\;.SFNSText-Regular&quot\;\, sans-serif\; font-size: 14px\; letter-spacing: -0.12px\;">The wood panels are 12 inches tall\, 24 inches wide\, and will be pre-stained or left natural depending on your personal choice. String will be white for the state\, and choice of red or gold heart for your &quot\;home&quot\; location.</span><br style="color: rgb(75\, 79\, 86)\; font-family: &quot\;SF Optimized&quot\;\, system-ui\, -apple-system\, system-ui\, &quot\;.SFNSText-Regular&quot\;\, sans-serif\; font-size: 14px\; letter-spacing: -0.12px\;" />\n<span style="color: rgb(75\, 79\, 86)\; font-family: &quot\;SF Optimized&quot\;\, system-ui\, -apple-system\, system-ui\, &quot\;.SFNSText-Regular&quot\;\, sans-serif\; font-size: 14px\; letter-spacing: -0.12px\;">Cost will be $40 and along with artwork/supplies includes:</span><br style="color: rgb(75\, 79\, 86)\; font-family: &quot\;SF Optimized&quot\;\, system-ui\, -apple-system\, system-ui\, &quot\;.SFNSText-Regular&quot\;\, sans-serif\; font-size: 14px\; letter-spacing: -0.12px\;" />\n<span style="color: rgb(75\, 79\, 86)\; font-family: &quot\;SF Optimized&quot\;\, system-ui\, -apple-system\, system-ui\, &quot\;.SFNSText-Regular&quot\;\, sans-serif\; font-size: 14px\; letter-spacing: -0.12px\;">Soup (Cream of Tomato or Loaded Potato)</span><br style="color: rgb(75\, 79\, 86)\; font-family: &quot\;SF Optimized&quot\;\, system-ui\, -apple-system\, system-ui\, &quot\;.SFNSText-Regular&quot\;\, sans-serif\; font-size: 14px\; letter-spacing: -0.12px\;" />\n<span style="color: rgb(75\, 79\, 86)\; font-family: &quot\;SF Optimized&quot\;\, system-ui\, -apple-system\, system-ui\, &quot\;.SFNSText-Regular&quot\;\, sans-serif\; font-size: 14px\; letter-spacing: -0.12px\;">Salad (Ranch or Vinaigrette)</span><br style="color: rgb(75\, 79\, 86)\; font-family: &quot\;SF Optimized&quot\;\, system-ui\, -apple-system\, system-ui\, &quot\;.SFNSText-Regular&quot\;\, sans-serif\; font-size: 14px\; letter-spacing: -0.12px\;" />\n<span style="color: rgb(75\, 79\, 86)\; font-family: &quot\;SF Optimized&quot\;\, system-ui\, -apple-system\, system-ui\, &quot\;.SFNSText-Regular&quot\;\, sans-serif\; font-size: 14px\; letter-spacing: -0.12px\;">and Grilled Cheese or Turkey Club Sandwich</span><br style="color: rgb(75\, 79\, 86)\; font-family: &quot\;SF Optimized&quot\;\, system-ui\, -apple-system\, system-ui\, &quot\;.SFNSText-Regular&quot\;\, sans-serif\; font-size: 14px\; letter-spacing: -0.12px\;" />\n<span style="color: rgb(75\, 79\, 86)\; font-family: &quot\;SF Optimized&quot\;\, system-ui\, -apple-system\, system-ui\, &quot\;.SFNSText-Regular&quot\;\, sans-serif\; font-size: 14px\; letter-spacing: -0.12px\;">Please note\, drinks are additional.</span><br style="color: rgb(75\, 79\, 86)\; font-family: &quot\;SF Optimized&quot\;\, system-ui\, -apple-system\, system-ui\, &quot\;.SFNSText-Regular&quot\;\, sans-serif\; font-size: 14px\; letter-spacing: -0.12px\;" />\n<span style="color: rgb(75\, 79\, 86)\; font-family: &quot\;SF Optimized&quot\;\, system-ui\, -apple-system\, system-ui\, &quot\;.SFNSText-Regular&quot\;\, sans-serif\; font-size: 14px\; letter-spacing: -0.12px\;">Register by 1/19/18.</span>
LOCATION:Staunton River Brewing Co. 1571 Mount Calvary Road Brookneal\, VA
UID:e.845.7230
SEQUENCE:3
DTSTAMP:20260422T090915Z
URL:https://business.halifaxchamber.net/events/details/craft-night-at-staunton-river-brewing-co-7230
END:VEVENT

END:VCALENDAR
