BEGIN:VCALENDAR
VERSION:2.0
PRODID:-//ChamberMaster//Event Calendar 2.0//EN
METHOD:PUBLISH
X-PUBLISHED-TTL:P3D
REFRESH-INTERVAL:P3D
CALSCALE:GREGORIAN
BEGIN:VEVENT
DTSTART:20201201T133000Z
DTEND:20201201T133000Z
X-MICROSOFT-CDO-ALLDAYEVENT:FALSE
SUMMARY:Creating a Healthy Workplace Culture in Stressful Times
DESCRIPTION:Employees are stressed right now. They are also the key to your businesses' success during this difficult time. Join Haley Woznyj\, Longwood University Assistant Professor of Management\, as she shares best practices from her research with small businesses.  Learn how to best support employees through these challenging times. We will discuss concrete practices\, the latest research\, and workshop some sample scenarios. As always\, questions are welcome.
X-ALT-DESC;FMTTYPE=text/html:<span style="caret-color: rgb(0\, 0\, 0)\; color: rgb(0\, 0\, 0)\; font-family: Calibri\, sans-serif\; font-size: 14.6667px\; text-size-adjust: auto\;">Employees are stressed&nbsp\;right now. They are also the key to your businesses&#39\; success during this difficult time.&nbsp\;Join Haley Woznyj\, Longwood University Assistant Professor of Management\, as she shares best practices from her research with small businesses.&nbsp\; </span><span style="font-family: Calibri\, sans-serif\; font-size: 14.6667px\; text-size-adjust: auto\; color: black\;">Learn how to best support employees through these challenging times. We will discuss concrete practices\, the latest research\, and workshop some sample scenarios. As always\, questions are welcome.&nbsp\;&nbsp\;</span>
LOCATION:Regista via Zoom at https://us02web.zoom.us/meeting/register/tZAvf-GvqDIjGte-T_apeDr5dl9PbhwscaYH
UID:e.845.17800
SEQUENCE:3
DTSTAMP:20260419T220901Z
URL:https://business.halifaxchamber.net/events/details/creating-a-healthy-workplace-culture-in-stressful-times-17800
END:VEVENT

END:VCALENDAR
