BEGIN:VCALENDAR
VERSION:2.0
PRODID:-//ChamberMaster//Event Calendar 2.0//EN
METHOD:PUBLISH
X-PUBLISHED-TTL:P3D
REFRESH-INTERVAL:P3D
CALSCALE:GREGORIAN
BEGIN:VEVENT
DTSTART:20201006T123000Z
DTEND:20201006T133000Z
X-MICROSOFT-CDO-ALLDAYEVENT:FALSE
SUMMARY:Creating a Manageable Marketing Plan for your Business
DESCRIPTION:Does the idea of developing a marketing plan\, especially now\, feel intimidating or overwhelming? Join Ilsa Loeser\, SBDC Consultant and Principal of Letterpress Communications as she shares free resources to help you prioritize and organize your thoughts and plans for your business.
X-ALT-DESC;FMTTYPE=text/html:<span style="font-family: &quot\;Century Gothic&quot\;\, Calibri\, Helvetica\, Arial\, sans-serif\; text-size-adjust: auto\; font-size: 16px\;">Does the idea of developing a marketing plan\, especially now\, feel intimidating or overwhelming?&nbsp\;Join </span><span style="font-family: &quot\;Century Gothic&quot\;\, Calibri\, Helvetica\, Arial\, sans-serif\; text-size-adjust: auto\; font-size: 16px\; font-weight: bold\;">Ilsa Loeser</span><span style="font-family: &quot\;Century Gothic&quot\;\, Calibri\, Helvetica\, Arial\, sans-serif\; text-size-adjust: auto\; font-size: 16px\;">\, SBDC Consultant and Principal of Letterpress Communications as she shares free resources to help you prioritize and organize your thoughts and plans for your business.</span>
LOCATION:Register via Zoom at: https://us02web.zoom.us/meeting/register/tZEvc-GopzsrGtcaL5mHDvBj4DyruhbkQXQ2
UID:e.845.17769
SEQUENCE:3
DTSTAMP:20260420T031952Z
URL:https://business.halifaxchamber.net/events/details/creating-a-manageable-marketing-plan-for-your-business-17769
END:VEVENT

END:VCALENDAR
