BEGIN:VCALENDAR
VERSION:2.0
PRODID:-//ChamberMaster//Event Calendar 2.0//EN
METHOD:PUBLISH
X-PUBLISHED-TTL:P3D
REFRESH-INTERVAL:P3D
CALSCALE:GREGORIAN
BEGIN:VEVENT
DTSTART:20190409T160000Z
DTEND:20190409T180000Z
X-MICROSOFT-CDO-ALLDAYEVENT:FALSE
SUMMARY:Creative Tablescapes
DESCRIPTION:The South Boston - Halifax County Museum of History & Fine Arts\n\nPresents Creative Tablescapes. This lovely lunch fundraiser and competetion is open to organizations or individuals who will enjoy and opportunity to show off their creative skills while enjoying an interesting dining experience for a great community event. For information or entry contact 757-615-4142 or The Museum @ 434-572-9200
X-ALT-DESC;FMTTYPE=text/html:The South Boston - Halifax County Museum of History &amp\; Fine Arts<br />\nPresents Creative Tablescapes. This lovely lunch fundraiser and competetion is open to organizations or individuals who will enjoy and opportunity to show off their creative skills while enjoying an interesting dining experience for a great community event. For information or entry contact 757-615-4142 or The Museum @ 434-572-9200
LOCATION:
UID:e.845.12366
SEQUENCE:3
DTSTAMP:20260421T075453Z
URL:https://business.halifaxchamber.net/events/details/creative-tablescapes-12366
END:VEVENT

END:VCALENDAR
