BEGIN:VCALENDAR
VERSION:2.0
PRODID:-//ChamberMaster//Event Calendar 2.0//EN
METHOD:PUBLISH
X-PUBLISHED-TTL:P3D
REFRESH-INTERVAL:P3D
CALSCALE:GREGORIAN
BEGIN:VEVENT
DTSTART:20170415T140000Z
DTEND:20170415T230000Z
X-MICROSOFT-CDO-ALLDAYEVENT:FALSE
SUMMARY:Cricket Wireless Grand Opening
DESCRIPTION:Come celebrate Cricket Wireless' Grand Opening Saturday\, April 15th from 10:00 AM - 7:00 PM.\n\n\n\n\n\nFree Giveaways\n\nFree Food\n\nMusic\n\nEaster Egg Hunt for the Kids
X-ALT-DESC;FMTTYPE=text/html:Come celebrate Cricket Wireless&#39\; Grand Opening Saturday\, April 15th from 10:00 AM - 7:00 PM.<br />\n<br />\n<br />\nFree Giveaways<br />\nFree Food<br />\nMusic<br />\nEaster Egg Hunt for the Kids&nbsp\;&nbsp\;&nbsp\;&nbsp\;
LOCATION:Cricket Wireless 1020 Bill Tuck Highway South Boston\, VA
UID:e.845.5897
SEQUENCE:3
DTSTAMP:20260424T131758Z
URL:https://business.halifaxchamber.net/events/details/cricket-wireless-grand-opening-5897
END:VEVENT

END:VCALENDAR
