BEGIN:VCALENDAR
VERSION:2.0
PRODID:-//ChamberMaster//Event Calendar 2.0//EN
METHOD:PUBLISH
X-PUBLISHED-TTL:P3D
REFRESH-INTERVAL:P3D
CALSCALE:GREGORIAN
BEGIN:VEVENT
DTSTART:20170331T130000Z
DTEND:20170331T140000Z
X-MICROSOFT-CDO-ALLDAYEVENT:FALSE
SUMMARY:Cricket Wireless Ribbon Cutting
DESCRIPTION:Join Cricket Wireless for their Ribbon Cutting.\n\n\n\nPlease RSVP to Veronica Vivas at (434) 446-0322 or xcell.veronivia@gmail.com by Thursday\, March 30th.
X-ALT-DESC;FMTTYPE=text/html:Join Cricket Wireless for their Ribbon Cutting.<br />\n<br />\nPlease RSVP to Veronica Vivas&nbsp\;at (434) 446-0322 or xcell.veronivia@gmail.com by Thursday\, March 30th.
LOCATION:Cricket Wireless 1020 Bill Tuck Highway South Boston\, VA 24592
UID:e.845.5879
SEQUENCE:3
DTSTAMP:20260424T145211Z
URL:https://business.halifaxchamber.net/events/details/cricket-wireless-ribbon-cutting-5879
END:VEVENT

END:VCALENDAR
