BEGIN:VCALENDAR
VERSION:2.0
PRODID:-//ChamberMaster//Event Calendar 2.0//EN
METHOD:PUBLISH
X-PUBLISHED-TTL:P3D
REFRESH-INTERVAL:P3D
CALSCALE:GREGORIAN
BEGIN:VEVENT
DTSTART;VALUE=DATE:20190218
DTEND;VALUE=DATE:20190219
TRANSP:TRANSPARENT
X-MICROSOFT-CDO-ALLDAYEVENT:TRUE
SUMMARY:Crossing Of The Dan Celebration
DESCRIPTION:Come celebrate the 235th anniversary of the Crossing of the Dan in mid-February. Considered the turning point in the American Revolutionary War\, the annual celebration commemorates General Nathanael Greene's Southern Field Army's race to and the crossing of the Dan River in Halifax County. This would be considered a major event in the South\, and one leading to the British surrender at Yorktown. In addition to the program\, visitors may self-curate an exhibit on the third floor of The Prizery to learn more about one of the masterful military achievements of all time.
X-ALT-DESC;FMTTYPE=text/html:<span style="caret-color: rgb(109\, 103\, 98)\; color: rgb(109\, 103\, 98)\; font-family: Roboto\, Helvetica\, Arial\, sans-serif\; font-size: 15px\; background-color: rgb(240\, 241\, 233)\;">Come celebrate the 235</span><span style="position: relative\; font-size: 14px\; line-height: 0\; vertical-align: baseline\; top: -0.5em\; box-sizing: border-box\; caret-color: rgb(109\, 103\, 98)\; color: rgb(109\, 103\, 98)\; font-family: Roboto\, Helvetica\, Arial\, sans-serif\;">th</span><span style="caret-color: rgb(109\, 103\, 98)\; color: rgb(109\, 103\, 98)\; font-family: Roboto\, Helvetica\, Arial\, sans-serif\; font-size: 15px\; background-color: rgb(240\, 241\, 233)\;">&nbsp\;anniversary of the&nbsp\;</span><a href="http://www.crossingofthedan.org/crossingofthedan/Home.html" style="color: rgb(100\, 33\, 101)\; text-decoration: none\; cursor: pointer\; box-sizing: border-box\; font-family: Roboto\, Helvetica\, Arial\, sans-serif\; font-size: 15px\;" target="_blank" title="The Crossing of the Dan">Crossing of the Dan</a><span style="caret-color: rgb(109\, 103\, 98)\; color: rgb(109\, 103\, 98)\; font-family: Roboto\, Helvetica\, Arial\, sans-serif\; font-size: 15px\; background-color: rgb(240\, 241\, 233)\;">&nbsp\;in mid-February. Considered the turning point in the American Revolutionary War\, the annual celebration commemorates&nbsp\;</span><a href="http://www.crossingofthedan.org/crossingofthedan/Gen._Nathanael_Greene.html" style="color: rgb(100\, 33\, 101)\; text-decoration: none\; cursor: pointer\; box-sizing: border-box\; font-family: Roboto\, Helvetica\, Arial\, sans-serif\; font-size: 15px\;" target="_blank">General Nathanael Greene&rsquo\;s</a><span style="caret-color: rgb(109\, 103\, 98)\; color: rgb(109\, 103\, 98)\; font-family: Roboto\, Helvetica\, Arial\, sans-serif\; font-size: 15px\; background-color: rgb(240\, 241\, 233)\;">&nbsp\;Southern Field Army&#39\;s race to and the crossing of the Dan River in Halifax County. This would be considered a major event in the South\, and one leading to the British surrender at Yorktown. In addition to the program\, visitors may self-curate an&nbsp\;</span><a href="http://prizery.com/index.php?option=com_content&amp\;view=article&amp\;id=101&amp\;Itemid=200" style="color: rgb(100\, 33\, 101)\; text-decoration: none\; cursor: pointer\; box-sizing: border-box\; font-family: Roboto\, Helvetica\, Arial\, sans-serif\; font-size: 15px\;" target="_blank">exhibit</a><span style="caret-color: rgb(109\, 103\, 98)\; color: rgb(109\, 103\, 98)\; font-family: Roboto\, Helvetica\, Arial\, sans-serif\; font-size: 15px\; background-color: rgb(240\, 241\, 233)\;">&nbsp\;on the third floor of&nbsp\;</span><a href="http://prizery.com/" style="color: rgb(100\, 33\, 101)\; text-decoration: none\; cursor: pointer\; box-sizing: border-box\; font-family: Roboto\, Helvetica\, Arial\, sans-serif\; font-size: 15px\;" target="_blank">The Prizery</a><span style="caret-color: rgb(109\, 103\, 98)\; color: rgb(109\, 103\, 98)\; font-family: Roboto\, Helvetica\, Arial\, sans-serif\; font-size: 15px\; background-color: rgb(240\, 241\, 233)\;">&nbsp\;to learn more about one of the masterful military achievements of all time.&nbsp\;</span>
LOCATION:Chastain Theatre at The Prizery South Boston\, VA
UID:e.845.12023
SEQUENCE:3
DTSTAMP:20260421T122535Z
URL:https://business.halifaxchamber.net/events/details/crossing-of-the-dan-celebration-12023
END:VEVENT

END:VCALENDAR
