BEGIN:VCALENDAR
VERSION:2.0
PRODID:-//ChamberMaster//Event Calendar 2.0//EN
METHOD:PUBLISH
X-PUBLISHED-TTL:P3D
REFRESH-INTERVAL:P3D
CALSCALE:GREGORIAN
BEGIN:VEVENT
DTSTART:20201024T210000Z
DTEND:20201025T000000Z
X-MICROSOFT-CDO-ALLDAYEVENT:FALSE
SUMMARY:Cruising Toward The Future!
DESCRIPTION:We're going to have a good time!\n\n\n\nMusic by Redbank Revival\n\n(OUTSIDE EVENT)\n\n(CDC guidelines apply)
X-ALT-DESC;FMTTYPE=text/html:<div style="text-align:center"><span style="font-size:20px"><span style="font-family:comic sans ms"><strong><span style="font-size:24px">We&#39\;re going to have a good time!</span></strong><br />\n<br />\n<span style="color:#FF0000"><strong><span style="font-size:24px">Music by Redbank Revival</span></strong></span><br />\n<strong><span style="font-size:24px">(OUTSIDE EVENT)</span></strong><br />\n<strong><span style="background-color:#FFFF00">(CDC guidelines apply)</span></strong></span></span></div>\n
LOCATION:The Prizery Parking Lot - 700 Bruce Street - South Boston\, Virginia 24592
UID:e.845.17796
SEQUENCE:3
DTSTAMP:20260420T012457Z
URL:https://business.halifaxchamber.net/events/details/cruising-toward-the-future-17796
END:VEVENT

END:VCALENDAR
