BEGIN:VCALENDAR
VERSION:2.0
PRODID:-//ChamberMaster//Event Calendar 2.0//EN
METHOD:PUBLISH
X-PUBLISHED-TTL:P3D
REFRESH-INTERVAL:P3D
CALSCALE:GREGORIAN
BEGIN:VEVENT
DTSTART:20200429T170000Z
DTEND:20200429T180000Z
X-MICROSOFT-CDO-ALLDAYEVENT:FALSE
SUMMARY:Cybersecurity Expert: How to Best Protect Your Business Online
DESCRIPTION:Business owners have to adjust their approach to cybersecurity because cyber criminals are targeting employees and preying on their stress\, distractions\, curiosity\, and fear of the unknown. If your business is among the many that have shifted to full-time remote work\, there are a steps you should take right now to increase your security and ensure that you and your employees are not inadvertently exposing sensitive business data through your home networks. Join us for a virtual seminar on the cybersecurity steps you should take. \n\n\n\nPresented by: Tom Stamulis
X-ALT-DESC;FMTTYPE=text/html:<span style="color: rgb(20\, 20\, 19)\; font-family: Arial\, Verdana\, Helvetica\, sans-serif\; font-size: 14px\;">Business owners have to adjust their approach to cybersecurity because cyber criminals are targeting employees and preying on their stress\, distractions\, curiosity\, and fear of the unknown.&nbsp\;If your business is among the many that have shifted to full-time remote work\, there are a steps you should take right now to increase your security and ensure that you and your employees are not inadvertently exposing sensitive business data through your home networks. Join us for a virtual seminar on the cybersecurity steps you should take.&nbsp\;</span><br />\n<br />\nPresented by: Tom Stamulis
LOCATION:Register at: https://clients.virginiasbdc.org/workshop.aspx?ekey=900400011
UID:e.845.17578
SEQUENCE:3
DTSTAMP:20260420T132500Z
URL:https://business.halifaxchamber.net/events/details/cybersecurity-expert-how-to-best-protect-your-business-online-17578
END:VEVENT

END:VCALENDAR
