BEGIN:VCALENDAR
VERSION:2.0
PRODID:-//ChamberMaster//Event Calendar 2.0//EN
METHOD:PUBLISH
X-PUBLISHED-TTL:P3D
REFRESH-INTERVAL:P3D
CALSCALE:GREGORIAN
BEGIN:VEVENT
DTSTART:20201015T160000Z
DTEND:20201015T170000Z
X-MICROSOFT-CDO-ALLDAYEVENT:FALSE
SUMMARY:Cybersecurity: Response\, Remediation and Recovery
DESCRIPTION:While we could not hold the CyberUp Summit this October due to COVID-19\, the Southern Piedmont Technology Council in conjunction with Averett University are bringing together cybersecurity experts to discuss cyber attacks and provide guidance on how to prevent them\, in honor of National Cybersecurity Awareness month.\n\nAllen Jenkins\, Sycom Technologies\, will discuss cybersecurity fundamentals\, emerging threats to business and industries and the steps needed to take to protect your business.\n\nChris Puryear with Person County NC and Greg Manson with Logically will discuss how Person County government was affected from a ransomware cyber-attack. They will share how they quickly responded and remedied the attack and how they are recovering from the attack.\n\nSpeakers:\n\n        Allen Jenkins\, CISO/Vice President of Cybersecurity Consulting\, Sycom Technologies\n\nChris Puryear\, IT Director\, Person County NC\n\n	Greg Manson\, Vice President of Security\, Audit and Compliance\, Logically
X-ALT-DESC;FMTTYPE=text/html:While we could not hold the CyberUp Summit this October due to COVID-19\, the&nbsp\;<strong>Southern Piedmont Technology Council</strong>&nbsp\;in conjunction with&nbsp\;<strong>Averett University</strong>&nbsp\;are bringing together cybersecurity experts to discuss cyber attacks and provide guidance on how to prevent them\, in honor of National Cybersecurity Awareness month.<br />\n<strong>Allen Jenkins\, Sycom Technologies</strong>\, will discuss cybersecurity fundamentals\, emerging threats to business and industries and the steps needed to take to protect your business.<br />\n<strong>Chris Puryear with Person County NC</strong>&nbsp\;and&nbsp\;<strong>Greg Manson with Logically</strong>&nbsp\;will discuss how Person County government was affected from a ransomware cyber-attack. They will share how they quickly responded and remedied the attack and how they are recovering from the attack.<br />\nSpeakers:<br />\n<span style="font-family:symbol\;">&middot\;&nbsp\;&nbsp\;&nbsp\;&nbsp\;&nbsp\;&nbsp\; </span>Allen Jenkins\, CISO/Vice President of Cybersecurity Consulting\, Sycom Technologies<br />\nChris Puryear\, IT Director\, Person County NC\n<ul>\n	<li style="font-size:11pt\;font-family:Calibri\;color:rgb(0\, 0\, 0)\;">Greg Manson\, Vice President of Security\, Audit and Compliance\, Logically</li>\n</ul>\n
LOCATION:Register at: https://www.sptc-va.org/event/cybersecurity-webinar/
UID:e.845.17784
SEQUENCE:3
DTSTAMP:20260420T012610Z
URL:https://business.halifaxchamber.net/events/details/cybersecurity-response-remediation-and-recovery-17784
END:VEVENT

END:VCALENDAR
