BEGIN:VCALENDAR
VERSION:2.0
PRODID:-//ChamberMaster//Event Calendar 2.0//EN
METHOD:PUBLISH
X-PUBLISHED-TTL:P3D
REFRESH-INTERVAL:P3D
CALSCALE:GREGORIAN
BEGIN:VEVENT
DTSTART:20191029T140000Z
DTEND:20191029T193000Z
X-MICROSOFT-CDO-ALLDAYEVENT:FALSE
SUMMARY:CyberUp Summit: How Vulnerable Are You?
DESCRIPTION:This free summit is for individuals or businesses to learn how to better safeguard their digital assets.\n\n\n\nKeynote speaker\, John Sileo - Award-winning security expert featured in USA Today and the Washington Pot.
X-ALT-DESC;FMTTYPE=text/html:This free summit is for individuals or businesses to learn how to better safeguard their digital assets.<br />\n<br />\nKeynote speaker\, John Sileo - Award-winning security expert featured in USA Today and the Washington Pot.
LOCATION:Institute for Advanced Learning & Research 150 Slayton Ave. Danville\, VA
UID:e.845.13439
SEQUENCE:3
DTSTAMP:20260420T234026Z
URL:https://business.halifaxchamber.net/events/details/cyberup-summit-how-vulnerable-are-you-13439
END:VEVENT

END:VCALENDAR
