BEGIN:VCALENDAR
VERSION:2.0
PRODID:-//ChamberMaster//Event Calendar 2.0//EN
METHOD:PUBLISH
X-PUBLISHED-TTL:P3D
REFRESH-INTERVAL:P3D
CALSCALE:GREGORIAN
BEGIN:VEVENT
DTSTART:20200307T000000Z
DTEND:20200307T040000Z
X-MICROSOFT-CDO-ALLDAYEVENT:FALSE
SUMMARY:Dancing Through The Decades
DESCRIPTION:Join Sentara Halifax Hospice for an evening of dancing\, delicious food\, beer\, wine\, and live music by 6th and Main.  Wear your best decade outfit and dance the night away to a variety of music throughout the decades!\n\n\n\nPick up your ticket today\, as space will be limited!\n\n\n\nHosted by Halifax Sentara Hospice
X-ALT-DESC;FMTTYPE=text/html:Join Sentara Halifax Hospice for an evening of dancing\, delicious food\, beer\, wine\, and live music by 6th and Main.&nbsp\; Wear your best decade outfit and dance the night away to a variety of music throughout the decades!<br />\n<br />\nPick up your ticket today\, as space will be limited!<br />\n<br />\nHosted by Halifax Sentara Hospice
LOCATION:The Prizery 700 Bruce Street South Boston\, VA 24592
UID:e.845.17470
SEQUENCE:3
DTSTAMP:20260420T131816Z
URL:https://business.halifaxchamber.net/events/details/dancing-through-the-decades-17470
END:VEVENT

END:VCALENDAR
