BEGIN:VCALENDAR
VERSION:2.0
PRODID:-//ChamberMaster//Event Calendar 2.0//EN
METHOD:PUBLISH
X-PUBLISHED-TTL:P3D
REFRESH-INTERVAL:P3D
CALSCALE:GREGORIAN
BEGIN:VEVENT
DTSTART:20170325T180000Z
DTEND:20170325T230000Z
X-MICROSOFT-CDO-ALLDAYEVENT:FALSE
SUMMARY:Danville Toyota NASCAR Whelen Late Model T-100 / Limited 50/Pure Stock 30 / Hornets 15
DESCRIPTION:Danville Toyota NASCAR Whelen Late Model T-100 / Limited 50 / Pure Stock 30 / Hornets 15 Race
X-ALT-DESC;FMTTYPE=text/html:Danville Toyota NASCAR Whelen Late Model T-100 / Limited 50 / Pure Stock 30 / Hornets 15 Race
LOCATION:South Boston Speedway 1188 James D Hagood Highway South Boston\, VA 24592
UID:e.845.5802
SEQUENCE:3
DTSTAMP:20260424T133925Z
URL:https://business.halifaxchamber.net/events/details/danville-toyota-nascar-whelen-late-model-t-100-limited-50-pure-stock-30-hornets-15-5802
END:VEVENT

END:VCALENDAR
