BEGIN:VCALENDAR
VERSION:2.0
PRODID:-//ChamberMaster//Event Calendar 2.0//EN
METHOD:PUBLISH
X-PUBLISHED-TTL:P3D
REFRESH-INTERVAL:P3D
CALSCALE:GREGORIAN
BEGIN:VEVENT
DTSTART:20190308T000000Z
DTEND:20190308T020000Z
X-MICROSOFT-CDO-ALLDAYEVENT:FALSE
SUMMARY:Dar He: The Lynching of Emmett Till
DESCRIPTION:A Film by Mike Wiley Productions. Mr. Wiley will attend this presentation of his film and engage the audience in a post-film discussion. Free and open to the public\, with support from Virginia Humanities.\n\nDAR HE: The Lynching of Emmett Till\, is the true story crafted from the public record: a transfixing\, true dramatization of the historic interviews and events surrounding the murder that became a lightning rod for moral outrage and pivotal in inspiring a whole generation of young people to commit to social change in the 1950s. "His death was a spark that ignited the Civil Rights Movement in America\," Ed Bradley\, Emmy Award-winning journalist.\n\nThe film was adapted from the acclaimed one-man play written and performed by Mike Wiley\, similarly titled\, Dar He: The Story of Emmett Till. In the play and the film\, Wiley plays every character.
X-ALT-DESC;FMTTYPE=text/html:<h4 style="margin: 10px 0px\; font-family: Helvetica\, Arial\, sans-serif\; line-height: 20px\; color: rgb(146\, 142\, 142)\; text-rendering: optimizeLegibility\; font-size: 19.5px\;">A Film by Mike Wiley Productions. Mr. Wiley will attend this presentation of his film and engage the audience in a post-film discussion. Free and open to the public\, with support from Virginia Humanities.</h4>\n\n<p style="margin: 0px 0px 10px\; border: none\; line-height: 24px\; font-family: Helvetica\, Arial\, sans-serif\; color: rgb(76\, 76\, 76)\; font-size: 14px\; font-variant-ligatures: normal\; font-variant-east-asian: normal\; font-variant-position: normal\; orphans: 2\;"><strong>DAR HE:</strong>&nbsp\;<span style="font-style: italic\; margin-bottom: 0px\;">The Lynching of Emmett Till\,</span>&nbsp\;is the true story crafted from the public record: a transfixing\, true dramatization of the historic interviews and events surrounding the murder that became a lightning rod for moral outrage and pivotal in inspiring a whole generation of young people to commit to social change in the 1950s. &ldquo\;His death was a spark that ignited the Civil Rights Movement in America\,&rdquo\; Ed Bradley\, Emmy Award-winning journalist.</p>\n\n<p style="margin: 0px\; border: none\; line-height: 24px\; font-family: Helvetica\, Arial\, sans-serif\; color: rgb(76\, 76\, 76)\; font-size: 14px\; font-variant-ligatures: normal\; font-variant-east-asian: normal\; font-variant-position: normal\; orphans: 2\;">The film was adapted from the acclaimed one-man play written and performed by Mike Wiley\, similarly titled\, Dar He: The Story of Emmett Till. In the play and the film\, Wiley plays every character.</p>\n
LOCATION:The Prizery-Chasatain Theatre
UID:e.845.8826
SEQUENCE:3
DTSTAMP:20260421T094021Z
URL:https://business.halifaxchamber.net/events/details/dar-he-the-lynching-of-emmett-till-8826
END:VEVENT

END:VCALENDAR
