BEGIN:VCALENDAR
VERSION:2.0
PRODID:-//ChamberMaster//Event Calendar 2.0//EN
METHOD:PUBLISH
X-PUBLISHED-TTL:P3D
REFRESH-INTERVAL:P3D
CALSCALE:GREGORIAN
BEGIN:VEVENT
DTSTART:20171005T180000Z
DTEND:20171005T210000Z
X-MICROSOFT-CDO-ALLDAYEVENT:FALSE
SUMMARY:Dealing with Aging Parents
DESCRIPTION:Team Nurse would like to inform and educate everyone on the difficulties/changes of aging parents. The Team Nurse team can help you are your family every step of the way!
X-ALT-DESC;FMTTYPE=text/html:Team Nurse would like to inform and educate everyone on the difficulties/changes of aging parents. The Team Nurse team can help you are your family every step of the way!&nbsp\;
LOCATION:Team Nurse 606 Broad Street Suite F South Boston\, VA
UID:e.845.7100
SEQUENCE:3
DTSTAMP:20260422T135314Z
URL:https://business.halifaxchamber.net/events/details/dealing-with-aging-parents-7100
END:VEVENT

END:VCALENDAR
