BEGIN:VCALENDAR
VERSION:2.0
PRODID:-//ChamberMaster//Event Calendar 2.0//EN
METHOD:PUBLISH
X-PUBLISHED-TTL:P3D
REFRESH-INTERVAL:P3D
CALSCALE:GREGORIAN
BEGIN:VEVENT
DTSTART:20181011T140000Z
DTEND:20181011T200000Z
X-MICROSOFT-CDO-ALLDAYEVENT:FALSE
SUMMARY:Deepen Your Understanding of Memory Loss
DESCRIPTION:Imagine the difference you could make in the life of the loved one you care for if you fully understood the physical and emotional changes that Alzheimer's disease and other dimentias cause. Commonwealth Senior Living and our Sweet Memories program invite you to gain powerful insight     into the lives of those suffering from memory loss.\n\nThe Virtual Dementia Tour is a scientifically proven method for caregivers and family members to learn the specific sensory challenges that accompany the progressions of Alzheimer's and dementia. With deepened insight into the daily life of your loved one\, you can provide the best care possible for both body and spirit. Join us for our Virtual Dementia Tour and discover how to create natural and supportive transitions through memory care for you and your loved one.\n\n\n\nThe virtual presentation is about 30 minutes. Please call to reserve your slot today. 434-575-5400\n\n\n\nLight refreshments will be served.
X-ALT-DESC;FMTTYPE=text/html:Imagine the difference you could make in the life of the loved one you care for if you fully understood the physical and emotional changes that Alzheimer&#39\;s disease and other dimentias cause. Commonwealth Senior Living and our Sweet Memories program invite you to gain powerful insight &nbsp\; &nbsp\; into the lives of those suffering from memory loss.<br />\nThe Virtual Dementia Tour is a scientifically proven method for caregivers and family members to learn the specific sensory challenges that accompany the progressions of Alzheimer&#39\;s and dementia. With deepened insight into the daily life of your loved one\, you can provide the best care possible for both body and spirit. Join us for our Virtual Dementia Tour and discover how to create natural and supportive transitions through memory care for you and your loved one.<br />\n<br />\nThe virtual presentation is about 30 minutes. Please call to reserve your slot today. 434-575-5400<br />\n<br />\nLight refreshments will be served.
LOCATION:Commonwealth Senior Living of South Boston 435 Hamliton Blvd. South Boston\, VA 24582
UID:e.845.8523
SEQUENCE:3
DTSTAMP:20260421T185129Z
URL:https://business.halifaxchamber.net/events/details/deepen-your-understanding-of-memory-loss-8523
END:VEVENT

END:VCALENDAR
