BEGIN:VCALENDAR
VERSION:2.0
PRODID:-//ChamberMaster//Event Calendar 2.0//EN
METHOD:PUBLISH
X-PUBLISHED-TTL:P3D
REFRESH-INTERVAL:P3D
CALSCALE:GREGORIAN
BEGIN:VEVENT
DTSTART:20200905T220000Z
DTEND:20200905T230000Z
X-MICROSOFT-CDO-ALLDAYEVENT:FALSE
SUMMARY:Derby House Party!
DESCRIPTION:You are invited to join us as we celebrate the 146th Kentucky Derby in the comfort and safety of your home. Party with us online\, invite your friends and let us help you host. For each donation to the SVHEF\, you will receive a Party Pak.\n\nThe Derby Party Pak will include: \n\nA full hot Derby themed dinner (two menu options)\n\nHalifax Mint Julep/Blackberry Lemonade\n\nDerby swag\n\nEntry into numerous raffles \n\nAll proceeds from the event will be used to support the programs and students of Southern Virginia Higher Education Center. \n\nFor more information and to make your donation please visit svhef.org and click on Hats & Horses at the top of the home page.
X-ALT-DESC;FMTTYPE=text/html:<div class="page" title="Page 1">\n<div class="section" style="background-color: rgb(100.000000%\, 100.000000%\, 100.000000%)">\n<div class="layoutArea">\n<div class="column">\n<p><span style="font-size: 12.000000pt\; font-family: 'Kollektif'">You are invited to join us as we celebrate the 146th </span><span style="font-size: 12.000000pt\; font-family: 'Kollektif'\; font-weight: 700">Kentucky Derby </span><span style="font-size: 12.000000pt\; font-family: 'Kollektif'">in the comfort and safety of your home. Party with us online\, invite your friends and let us help you host. For each donation to the SVHEF\, you will receive a </span><span style="font-size: 12.000000pt\; font-family: 'Kollektif'\; font-style: italic">Party Pak.<br />\n<strong>T</strong></span><span style="font-size: 12.000000pt\; font-family: 'Kollektif'\; font-weight: 700">he </span><span style="font-size: 12.000000pt\; font-family: 'Kollektif'\; font-weight: 700\; font-style: italic">Derby Party Pak </span><span style="font-size: 12.000000pt\; font-family: 'Kollektif'\; font-weight: 700">will include: </span></p>\n\n<p><span style="font-size: 12.000000pt\; font-family: 'Kollektif'\; font-weight: 700">A full hot Derby themed dinner (two menu options)<br />\nHalifax Mint Julep/Blackberry Lemonade<br />\nDerby swag<br />\nEntry into numerous raffles </span></p>\n\n<p><span style="font-size: 12.000000pt\; font-family: 'Kollektif'">All proceeds from the event will be used to support the programs and students of Southern Virginia Higher Education Center. </span></p>\n\n<p><span style="font-size: 12.000000pt\; font-family: 'Kollektif'">For more information and to make your donation please visit </span><a href="http://svhef.org"><span style="font-size: 12.000000pt\; font-family: 'Kollektif'\; font-weight: 700">svhef.org </span></a><span style="font-size: 12.000000pt\; font-family: 'Kollektif'">and click on </span><span style="font-size: 12.000000pt\; font-family: 'Kollektif'\; font-weight: 700\; font-style: italic">Hats &amp\; Horses </span><span style="font-size: 12.000000pt\; font-family: 'Kollektif'">at the top of the home page. </span></p>\n</div>\n</div>\n</div>\n</div>\n
LOCATION:Zoom - information will be provided closer to the date of the event.
UID:e.845.17729
SEQUENCE:3
DTSTAMP:20260420T031741Z
URL:https://business.halifaxchamber.net/events/details/derby-house-party-17729
END:VEVENT

END:VCALENDAR
