BEGIN:VCALENDAR
VERSION:2.0
PRODID:-//ChamberMaster//Event Calendar 2.0//EN
METHOD:PUBLISH
X-PUBLISHED-TTL:P3D
REFRESH-INTERVAL:P3D
CALSCALE:GREGORIAN
BEGIN:VEVENT
DTSTART:20180125T213000Z
DTEND:20180126T000000Z
X-MICROSOFT-CDO-ALLDAYEVENT:FALSE
SUMMARY:DermOne Dermatology Open House and Ribbon Cutting
DESCRIPTION:DermOne Dermatology of South Boston cordially invites you to their Open House and Ribbon Cutting.\n\n\n\nDr. John Soderberg\, board-certified dermatologist\, and Shannon Craven\, PA-C provide medical\, surgical\, and cosmetic dermatology services to patients of all ages.  We welcome you to stop by and meet Dr. Soderberg\, Shannon and their team.  You won't want to \n\nmiss it!\n\n\n\nMeet and Greet\n\nDr. John Soderberg\, Board-Certified Dermatologist     \n\nShannon Craven\, PA-C\n\nDr. Gerald Burnett\, Board-Certified Dermatologist\n\n \n\nEnter to Win  \n\nFREE Cosmetic Treatments!\n\nFREE Gifts!\n\n \n\nFood & Drinks will be served!\n\n\n\nKindly RSVP by January 22nd:     \n\nMichelle Stefan at (908) 618-6419 or    \n\nMichelleStefan@DermOne.com
X-ALT-DESC;FMTTYPE=text/html:DermOne Dermatology of South Boston cordially invites you to their Open House and Ribbon Cutting.<br />\n<br />\n<span style="font-family:bookman old style\;"><span style="font-size:12.0pt\;">Dr. John Soderberg\, board-certified dermatologist\, and Shannon Craven\, PA-C provide medical\, surgical\, and cosmetic dermatology services to patients of all ages.&nbsp\; We welcome you to stop by and meet Dr. Soderberg\, Shannon and their team.&nbsp\; You won&rsquo\;t want to </span></span><br />\n<span style="font-family:bookman old style\;"><span style="font-size:12.0pt\;">miss it!</span></span><br />\n<br />\n<strong><em><u><span style="color:#0070C0\;"><span style="font-family:bookman old style\;"><span style="font-size:12.0pt\;">Meet and Greet</span></span></span></u></em></strong><br />\n<span style="font-family:arial\;"><strong><span style="font-size:12.0pt\;">Dr. John Soderberg\,</span></strong><span style="font-size:12.0pt\;"> Board-Certified Dermatologist&nbsp\;&nbsp\;&nbsp\;&nbsp\; </span><br />\n<strong><span style="font-size:12.0pt\;">Shannon Craven</span></strong><span style="font-size:12.0pt\;">\, PA-C</span><br />\n<strong><span style="font-size:12.0pt\;">Dr. Gerald Burnett</span></strong><span style="font-size:12.0pt\;">\, Board-Certified Dermatologist</span></span><br />\n&nbsp\;<br />\n<strong><em><u><span style="color:#0070C0\;"><span style="font-family:bookman old style\;"><span style="font-size:12.0pt\;">Enter to Win </span></span></span></u></em></strong>&nbsp\;<br />\n<span style="font-family:arial\;"><strong><span style="font-size:12.0pt\;">FREE</span></strong><span style="font-size:12.0pt\;"> Cosmetic Treatments!</span><br />\n<strong><span style="font-size:12.0pt\;">FREE</span></strong><span style="font-size:12.0pt\;"> Gifts!</span></span><br />\n&nbsp\;<br />\n<strong><em><span style="color:#0070C0\;"><span style="font-family:bookman old style\;"><span style="font-size:16.0pt\;">Food &amp\; Drinks will be served!</span></span></span><br />\n<br />\n<span style="font-family:arial\;"><span style="font-size:14.0pt\;">Kindly RSVP by January 22<sup>nd</sup>:</span></span></em></strong><span style="font-family:arial\;">&nbsp\;&nbsp\;&nbsp\;&nbsp\;&nbsp\;<br />\n<span style="font-size:14.0pt\;">Michelle Stefan at (908) 618-6419 or &nbsp\;&nbsp\;&nbsp\;</span><br />\n<span style="font-size:11.0pt\;"><a href="mailto:MichelleStefan@DermOne.com"><span style="font-size:14.0pt\;">MichelleStefan@DermOne.com</span></a></span>&nbsp\;&nbsp\;</span><br />\n<br />\n<br />\n<br />\n<br />\n<br />\n&nbsp\;
LOCATION:DermOne Dermatology 405 Oak Lane South Boston\, VA
UID:e.845.7188
SEQUENCE:3
DTSTAMP:20260422T091106Z
URL:https://business.halifaxchamber.net/events/details/dermone-dermatology-open-house-and-ribbon-cutting-7188
END:VEVENT

END:VCALENDAR
