BEGIN:VCALENDAR
VERSION:2.0
PRODID:-//ChamberMaster//Event Calendar 2.0//EN
METHOD:PUBLISH
X-PUBLISHED-TTL:P3D
REFRESH-INTERVAL:P3D
CALSCALE:GREGORIAN
BEGIN:VEVENT
DTSTART:20180916T180000Z
DTEND:20180916T200000Z
X-MICROSOFT-CDO-ALLDAYEVENT:FALSE
SUMMARY:Desiree's back with painting on the porch! Springfield Distillery
DESCRIPTION:Desiree will be painting and we will be serving some great sipping options.
X-ALT-DESC;FMTTYPE=text/html:<span style="color: rgb(29\, 33\, 41)\; font-family: system-ui\, -apple-system\, system-ui\, &quot\;.SFNSText-Regular&quot\;\, sans-serif\; font-size: 14px\; font-variant-ligatures: normal\; orphans: 2\; widows: 2\; background-color: rgb(255\, 255\, 255)\;">Desiree will be painting and we will be serving some great sipping options.</span>
LOCATION:Springfield Distillery Halifax\, VA
UID:e.845.8501
SEQUENCE:3
DTSTAMP:20260421T203709Z
URL:https://business.halifaxchamber.net/events/details/desiree-s-back-with-painting-on-the-porch-springfield-distillery-8501
END:VEVENT

END:VCALENDAR
