BEGIN:VCALENDAR
VERSION:2.0
PRODID:-//ChamberMaster//Event Calendar 2.0//EN
METHOD:PUBLISH
X-PUBLISHED-TTL:P3D
REFRESH-INTERVAL:P3D
CALSCALE:GREGORIAN
BEGIN:VEVENT
DTSTART:20180713T140000Z
DTEND:20180713T150000Z
X-MICROSOFT-CDO-ALLDAYEVENT:FALSE
SUMMARY:Divine Decor&More Ribbon Cutting
DESCRIPTION:Join us for a ribbon cutting event for Downtown South Boston's newest Furniture and Home Decor Store! Meet Johnny and Amber and see all of the great items they have to make your home beautiful!
X-ALT-DESC;FMTTYPE=text/html:<span style="color: rgb(96\, 96\, 96)\; font-family: Tahoma\, Arial\, sans-serif\; font-size: 16px\; text-align: -webkit-center\; background-color: rgb(246\, 246\, 246)\;">Join us for a ribbon cutting event for Downtown South Boston&#39\;s newest Furniture and Home Decor Store! Meet Johnny and Amber and see all of the great items they have to make your home beautiful!</span>
LOCATION:420 Main Street South Boston\, VA 24592
UID:e.845.8473
SEQUENCE:3
DTSTAMP:20260421T234828Z
URL:https://business.halifaxchamber.net/events/details/divine-decor-more-ribbon-cutting-8473
END:VEVENT

END:VCALENDAR
