BEGIN:VCALENDAR
VERSION:2.0
PRODID:-//ChamberMaster//Event Calendar 2.0//EN
METHOD:PUBLISH
X-PUBLISHED-TTL:P3D
REFRESH-INTERVAL:P3D
CALSCALE:GREGORIAN
BEGIN:VEVENT
DTSTART:20191214T020000Z
DTEND:20191214T045500Z
X-MICROSOFT-CDO-ALLDAYEVENT:FALSE
SUMMARY:DJ B-Ham
DESCRIPTION:Join us for a fun festive night with DJ B-Ham!  Dance around in the ugliest Christmas sweater you have.  Contest at 11:00pm.
X-ALT-DESC;FMTTYPE=text/html:Join us for a fun festive night with DJ B-Ham! &nbsp\;Dance around in the ugliest Christmas sweater you have. &nbsp\;Contest at 11:00pm.&nbsp\;
LOCATION:World of Sports 2030 Bill Tuck Highway South Boston\, VA 24592
UID:e.845.15567
SEQUENCE:3
DTSTAMP:20260420T195707Z
URL:https://business.halifaxchamber.net/events/details/dj-b-ham-15567
END:VEVENT

END:VCALENDAR
