BEGIN:VCALENDAR
VERSION:2.0
PRODID:-//ChamberMaster//Event Calendar 2.0//EN
METHOD:PUBLISH
X-PUBLISHED-TTL:P3D
REFRESH-INTERVAL:P3D
CALSCALE:GREGORIAN
BEGIN:VEVENT
DTSTART:20170422T010000Z
DTEND:20170422T035500Z
X-MICROSOFT-CDO-ALLDAYEVENT:FALSE
SUMMARY:DJ Beesty at JB's
DESCRIPTION:DJ Beesty at JB's Burgers\, Apps and Taps
X-ALT-DESC;FMTTYPE=text/html:DJ Beesty at JB&#39\;s&nbsp\;Burgers\, Apps and Taps<br />\n&nbsp\;
LOCATION:Located in the World of Sports 2030 Bill Tuck Highway South Boston\, VA 24592
UID:e.845.5873
SEQUENCE:3
DTSTAMP:20260424T131758Z
URL:https://business.halifaxchamber.net/events/details/dj-beesty-at-jb-s-5873
END:VEVENT

END:VCALENDAR
