BEGIN:VCALENDAR
VERSION:2.0
PRODID:-//ChamberMaster//Event Calendar 2.0//EN
METHOD:PUBLISH
X-PUBLISHED-TTL:P3D
REFRESH-INTERVAL:P3D
CALSCALE:GREGORIAN
BEGIN:VEVENT
DTSTART:20200201T020000Z
DTEND:20200201T045500Z
X-MICROSOFT-CDO-ALLDAYEVENT:FALSE
SUMMARY:DJ Slim
DESCRIPTION:DJ Slim playing all your favorite tunes at the World of Sports Friday\, January 31st fro 9pm - midnight.
X-ALT-DESC;FMTTYPE=text/html:DJ Slim playing all your favorite tunes at the World of Sports Friday\, January 31st fro 9pm - midnight.
LOCATION:World of Sports 2030 Bill Tuck Highway South Boston\, VA 24592
UID:e.845.15628
SEQUENCE:3
DTSTAMP:20260420T182758Z
URL:https://business.halifaxchamber.net/events/details/dj-slim-15628
END:VEVENT

END:VCALENDAR
