BEGIN:VCALENDAR
VERSION:2.0
PRODID:-//ChamberMaster//Event Calendar 2.0//EN
METHOD:PUBLISH
X-PUBLISHED-TTL:P3D
REFRESH-INTERVAL:P3D
CALSCALE:GREGORIAN
BEGIN:VEVENT
DTSTART:20170805T010000Z
DTEND:20170805T035500Z
X-MICROSOFT-CDO-ALLDAYEVENT:FALSE
SUMMARY:DJ Slim at JB's
DESCRIPTION:DJ Slim at JB's Burgers\, Apps and Taps.
X-ALT-DESC;FMTTYPE=text/html:DJ Slim at JB&#39\;s Burgers\, Apps and Taps.
LOCATION:World of Sports JB's Burgers\, Apps and Taps 2030 Bill Tuck Highway South Boston\, VA 24592
UID:e.845.7046
SEQUENCE:3
DTSTAMP:20260422T175401Z
URL:https://business.halifaxchamber.net/events/details/dj-slim-at-jb-s-7046
END:VEVENT

END:VCALENDAR
