BEGIN:VCALENDAR
VERSION:2.0
PRODID:-//ChamberMaster//Event Calendar 2.0//EN
METHOD:PUBLISH
X-PUBLISHED-TTL:P3D
REFRESH-INTERVAL:P3D
CALSCALE:GREGORIAN
BEGIN:VEVENT
DTSTART:20160912T180000Z
DTEND:20160912T210000Z
X-MICROSOFT-CDO-ALLDAYEVENT:FALSE
SUMMARY:Dollar General Distribution Center Hiring Event
DESCRIPTION:Join us at the Dollar General Distribution Center Hiring Event\n\nGeneral Warehouse Workers\n\n$12 per hour & shift differential\n\nPay increases based on hours worked\n\nExcellent benefits and perks\n\nApplicants must register to attend the event by\n\nemailing:sbojobs@dollargeneral.com or calling 434-517-2068 or 434-517-2067. Please provide your name\, best contact number\, email address\, and home address
X-ALT-DESC;FMTTYPE=text/html:Join us at the Dollar General Distribution Center Hiring Event<br />\nGeneral Warehouse Workers<br />\n$12 per hour &amp\; shift differential<br />\nPay increases based on hours worked<br />\nExcellent benefits and perks<br />\nApplicants must register to attend the event by<br />\nemailing:sbojobs@dollargeneral.com or calling 434-517-2068 or 434-517-2067. Please provide your name\, best contact number\, email address\, and home address
LOCATION:V. E. C. Workforce Center 2506 Houghton Ave.
UID:e.845.5708
SEQUENCE:3
DTSTAMP:20260424T225309Z
URL:https://business.halifaxchamber.net/events/details/dollar-general-distribution-center-hiring-event-5708
END:VEVENT

END:VCALENDAR
